BEGIN:VCALENDAR
VERSION:2.0
PRODID:-//CIEC | MADRID - ECPv6.7.1//NONSGML v1.0//EN
CALSCALE:GREGORIAN
METHOD:PUBLISH
X-ORIGINAL-URL:https://ciecmadrid.es
X-WR-CALDESC:Eventos para CIEC | MADRID
REFRESH-INTERVAL;VALUE=DURATION:PT1H
X-Robots-Tag:noindex
X-PUBLISHED-TTL:PT1H
BEGIN:VTIMEZONE
TZID:Europe/Madrid
BEGIN:DAYLIGHT
TZOFFSETFROM:+0100
TZOFFSETTO:+0200
TZNAME:CEST
DTSTART:20240331T010000
END:DAYLIGHT
BEGIN:STANDARD
TZOFFSETFROM:+0200
TZOFFSETTO:+0100
TZNAME:CET
DTSTART:20241027T010000
END:STANDARD
END:VTIMEZONE
BEGIN:VEVENT
DTSTART;TZID=Europe/Madrid:20240125T103000
DTEND;TZID=Europe/Madrid:20240125T130000
DTSTAMP:20260423T060731
CREATED:20240125T102048Z
LAST-MODIFIED:20240125T102048Z
UID:9104-1706178600-1706187600@ciecmadrid.es
SUMMARY:Sesión de Economía Circular y visita al CIEC Madrid
DESCRIPTION:Este evento va dirigido a las entidades de la Red de Sostenibilidad Ambiental gestionada por Plena Inclusión con apoyo de la Fundación Repsol. Tiene el objetivo de: \n1. Dar a conocer el Centro de Innovación en Economía Circular del Ayuntamiento de Madrid sus recursos y programas gratuitos a disposición de la Red. \n2. Promocionar un acercamiento a la economía circular\, la fabricación digital y las soluciones basadas en la naturaleza como oportunidades para la construcción de un entorno circular inclusivo. \n3. Espacio de diálogo y feedback. \nAGENDA: \n10:30– Bienvenida \n10:40– Sesión sobre Economía Circular \n11:00 – Presentación de los programas del CIEC y visita al centro (media hora por Lote) \n12:30 – Espacio de diálogo y feedback \n13:00 – Final de la Jornada y despedida \n  \n  \n 
URL:https://ciecmadrid.es/actividades/sesion-de-economia-circular-y-visita-al-ciec-madrid/
LOCATION:Online\, España
CATEGORIES:Economía Circular,Emprendimiento
ATTACH;FMTTYPE=image/jpeg:https://ciecmadrid.es/wp-content/uploads/2023/10/eventoCiec-47.jpg
END:VEVENT
END:VCALENDAR