BEGIN:VCALENDAR
VERSION:2.0
PRODID:-//CIEC | MADRID - ECPv6.7.1//NONSGML v1.0//EN
CALSCALE:GREGORIAN
METHOD:PUBLISH
X-ORIGINAL-URL:https://ciecmadrid.es
X-WR-CALDESC:Eventos para CIEC | MADRID
REFRESH-INTERVAL;VALUE=DURATION:PT1H
X-Robots-Tag:noindex
X-PUBLISHED-TTL:PT1H
BEGIN:VTIMEZONE
TZID:Europe/Madrid
BEGIN:DAYLIGHT
TZOFFSETFROM:+0100
TZOFFSETTO:+0200
TZNAME:CEST
DTSTART:20240331T010000
END:DAYLIGHT
BEGIN:STANDARD
TZOFFSETFROM:+0200
TZOFFSETTO:+0100
TZNAME:CET
DTSTART:20241027T010000
END:STANDARD
END:VTIMEZONE
BEGIN:VEVENT
DTSTART;TZID=Europe/Madrid:20240129T123000
DTEND;TZID=Europe/Madrid:20240201T140000
DTSTAMP:20260423T060756
CREATED:20240117T113529Z
LAST-MODIFIED:20240117T113529Z
UID:9090-1706531400-1706796000@ciecmadrid.es
SUMMARY:Maratón Financiación
DESCRIPTION:Durante las últimas dos semanas\, el Centro de Innovación y Emprendimiento para Empresas (CIEC) ha llevado a cabo diversas sesiones en el marco de sus programas dirigidos a empresas\, incubación y aceleración. Estas sesiones se han centrado en el ámbito de la financiación e inversión.  \nDurante dichas sesiones\, hemos contado con la participación de diversas entidades\, tanto públicas como privadas\, que han compartido información valiosa con emprendedores. Estos expertos han proporcionado a los participantes métodos y conocimientos esenciales para afrontar los desafíos financieros en distintas etapas de desarrollo de sus negocios.  \nEntre los participantes destacados\, mencionamos la contribución del Ayuntamiento de Madrid\, ENISA\, EJASO\, Caixabank DayOne\, Bolsa Social\, The Startup CFO\, First Drop VC\, Lean Finance y Slidehackers. 
URL:https://ciecmadrid.es/actividades/maraton-financiacion/
LOCATION:CIEC Madrid\, Calle del Prat\, 59\, Madrid\, Vicálvaro\, 28032\, España
CATEGORIES:Emprendimiento
ATTACH;FMTTYPE=image/jpeg:https://ciecmadrid.es/wp-content/uploads/2023/10/Summit-CIEC-Madrid-5.jpeg
END:VEVENT
BEGIN:VEVENT
DTSTART;TZID=Europe/Madrid:20240201T120000
DTEND;TZID=Europe/Madrid:20240209T140000
DTSTAMP:20260423T060756
CREATED:20240131T115505Z
LAST-MODIFIED:20240131T115505Z
UID:9152-1706788800-1707487200@ciecmadrid.es
SUMMARY:Maratón Financiación Online
DESCRIPTION:Durante las últimas dos semanas\, el Centro de Innovación y Emprendimiento para Empresas (CIEC) ha llevado a cabo diversas sesiones en el marco de sus programas dirigidos a empresas\, incubación y aceleración. Estas sesiones se han centrado en el ámbito de la financiación e inversión.  \nDurante dichas sesiones\, hemos contado con la participación de diversas entidades\, tanto públicas como privadas\, que han compartido información valiosa con emprendedores. Estos expertos han proporcionado a los participantes métodos y conocimientos esenciales para afrontar los desafíos financieros en distintas etapas de desarrollo de sus negocios.  \nEntre los participantes destacados\, mencionamos la contribución del Ayuntamiento de Madrid\, ENISA\, EJASO\, Caixabank DayOne\, Bolsa Social\, The Startup CFO\, First Drop VC\, Lean Finance y Slidehackers. 
URL:https://ciecmadrid.es/actividades/maraton-financiacion-online/
LOCATION:CIEC Madrid\, Calle del Prat\, 59\, Madrid\, Vicálvaro\, 28032\, España
CATEGORIES:Emprendimiento
ATTACH;FMTTYPE=image/jpeg:https://ciecmadrid.es/wp-content/uploads/2023/10/Summit-CIEC-Madrid-5.jpeg
END:VEVENT
BEGIN:VEVENT
DTSTART;TZID=Europe/Madrid:20240201T123000
DTEND;TZID=Europe/Madrid:20240201T143000
DTSTAMP:20260423T060756
CREATED:20240110T144355Z
LAST-MODIFIED:20240110T144732Z
UID:9070-1706790600-1706797800@ciecmadrid.es
SUMMARY:II Programa Piloto Compostaje: Sesión 1 | Circularidad y residuos orgánicos
DESCRIPTION:  \n\n¡Inscríbete ahora pinchando aquí!\n\n \n \n \n \nSe empezará el programa conociendo qué es la economía circular y como realizar el proceso de compostaje\, el paso a paso\, los materiales y recursos necesarios y cómo organizar un proyecto piloto exitoso de compostaje de residuos orgánicos. Contaremos con la colaboración del equipo de expertos de la entidad Composta en Red (coordinadora de Entidades Locales de todo el Estado que desarrollan experiencias de compostaje descentralizado doméstico y comunitario). \n\n\n \nFecha: 01 de febrero de 2024 \n\n\n \nHora: 12:30 a 14:30h \n\n\n \nLocal: CIEC\, Calle del Prat 59\, Vicálvaro\, Madrid \n\n\n \nPonentes: Equipo Soluciones Verdes – Fundación Juan XXIII. Beatriz Marín de Castro\, bióloga Responsable de la Oficina Técnica deComposta en Red
URL:https://ciecmadrid.es/actividades/ii-programa-piloto-compostaje-sesion-1-circularidad-y-residuos-organicos/
LOCATION:CIEC Madrid\, Calle del Prat\, 59\, Madrid\, Vicálvaro\, 28032\, España
CATEGORIES:Programas de compostaje,Soluciones Basadas en la Naturaleza
ATTACH;FMTTYPE=image/jpeg:https://ciecmadrid.es/wp-content/uploads/2023/11/piloto-compostaje.jpg
END:VEVENT
END:VCALENDAR