BEGIN:VCALENDAR
VERSION:2.0
PRODID:-//CIEC | MADRID - ECPv6.7.1//NONSGML v1.0//EN
CALSCALE:GREGORIAN
METHOD:PUBLISH
X-ORIGINAL-URL:https://ciecmadrid.es
X-WR-CALDESC:Eventos para CIEC | MADRID
REFRESH-INTERVAL;VALUE=DURATION:PT1H
X-Robots-Tag:noindex
X-PUBLISHED-TTL:PT1H
BEGIN:VTIMEZONE
TZID:Europe/Madrid
BEGIN:DAYLIGHT
TZOFFSETFROM:+0100
TZOFFSETTO:+0200
TZNAME:CEST
DTSTART:20240331T010000
END:DAYLIGHT
BEGIN:STANDARD
TZOFFSETFROM:+0200
TZOFFSETTO:+0100
TZNAME:CET
DTSTART:20241027T010000
END:STANDARD
END:VTIMEZONE
BEGIN:VEVENT
DTSTART;TZID=Europe/Madrid:20240212T143000
DTEND;TZID=Europe/Madrid:20240212T193000
DTSTAMP:20260423T080457
CREATED:20240110T150217Z
LAST-MODIFIED:20240110T150217Z
UID:9079-1707748200-1707766200@ciecmadrid.es
SUMMARY:Taller Técnico de Cubiertas Verdes
DESCRIPTION:  \n\n¡Inscríbete ahora pinchando aquí!\n\n \n \n \n \nEl Taller de Cubiertas Verdes es un taller formativo técnico\, dirigido por expertos referentes y agentes de economía circular\, en el que el alumnado tendrá la oportunidad de formarse para adquirir conocimientos teóricos y prácticos sobre las técnicas de montaje de una cubierta verde\, desde el desarrollo de su diseño\, hasta su instalación y mantenimiento. \nPincha aquí para ver el programa completo \n\n\n \nFecha: 12 a 19 de febrero de 2024 \n\n\n \nHora: 14:30 a 19:30h \n\n\n \nLocal: CIEC\, Calle del Prat 59\, Vicálvaro\, Madrid
URL:https://ciecmadrid.es/actividades/taller-tecnico-de-cubiertas-verdes/
LOCATION:CIEC Madrid\, Calle del Prat\, 59\, Madrid\, Vicálvaro\, 28032\, España
CATEGORIES:Programas de compostaje,Soluciones Basadas en la Naturaleza
ATTACH;FMTTYPE=image/jpeg:https://ciecmadrid.es/wp-content/uploads/2023/11/CAPS.jpg
END:VEVENT
BEGIN:VEVENT
DTSTART;TZID=Europe/Madrid:20240215T163000
DTEND;TZID=Europe/Madrid:20240215T173000
DTSTAMP:20260423T080457
CREATED:20240117T112607Z
LAST-MODIFIED:20240117T112607Z
UID:9088-1708014600-1708018200@ciecmadrid.es
SUMMARY:Infoday III Edición: Programas de Emprendimiento
DESCRIPTION:  \n\n¡Inscríbete ya pinchando aquí!\n\nOs invitamos a participar en la sesión informativa sobre los programas de incubación #CIECincuba y aceleración #CIECAcelera del CIEC – Centro de Innovación en Economía Circular de Madrid. \nContaremos ya este año con más de 50 empresas incubadas y aceleradas en dos ediciones pasadas. \nEn este webinar podrás conocer a la CEO y co-fundadora de LOGO Circular Luxury Closet\, empresa acelerada en la II edición del CIEC. \n¡Únete para saber más! La sesión será el día 15 de febrero a las 16:30h. \n  \n  \n  \n 
URL:https://ciecmadrid.es/actividades/infoday-iii-edicion-programas-de-emprendimiento/
LOCATION:Online\, España
CATEGORIES:Economía Circular
ATTACH;FMTTYPE=image/jpeg:https://ciecmadrid.es/wp-content/uploads/2023/10/eventoCiec-47.jpg
END:VEVENT
BEGIN:VEVENT
DTSTART;TZID=Europe/Madrid:20240314T153000
DTEND;TZID=Europe/Madrid:20240314T190000
DTSTAMP:20260423T080457
CREATED:20240215T154107Z
LAST-MODIFIED:20240215T154108Z
UID:9788-1710430200-1710442800@ciecmadrid.es
SUMMARY:Corte Láser
DESCRIPTION:En este curso adquirirás los conocimientos necesarios para poder manejar una cortadora láser de CO2. Aprenderás cómo preparar los archivos vectoriales en Inkscape para poderlos importar en el software de la máquina y así poder configurar tu trabajo para obtener un resultado óptimo. Veremos qué materiales son los más idóneos para el corte láser y sus parámetros. Haremos énfasis a lo largo de toda la formación en el uso correcto y seguro de la máquina. \n\n¡Pronto tendremos enlace de inscripción!\n\nOBJETIVOS \nManejar la cortadora láser de CO2 del FabLab teniendo en cuenta la seguridad y el uso adecuado de la misma. Aprenderás a cortar\, marcar y hacer sombreados con el láser. Conseguirás resolver problemas que te puedas encontrar. \nREQUISITOS \nEs positivo tener conocimientos sobre algún programa de dibujo vectorial\, aunque no es necesario. \nCONTENIDOS \n\nTrabajo en Inkscape: importación de vectores\, organización de capas\, exportación en .dxf.\nFuncionamiento de la tecnología láser y partes de la máquina.\nSeguridad en el manejo de la máquina.\nMateriales.\nSoftware máquina láser: importación de archivos\, orden de las capas\, configuración de parámetros para el láser y lanzamiento del trabajo.\n\n¿A QUIÉN VA DIRIGIDO? \n\nDiseñadores\nIngenieros\nArquitectos\nMakers\nA todas aquellas personas que quieran hacer realidad sus ideas.\n\nMETODOLOGÍA \nEste curso tiene formato workshop con una metodología totalmente práctica. \nNIVEL DEL CURSO \nNivel Básico. No son necesarios conocimientos previos en fabricación digital \nORDENADOR Y MATERIALES \nL@s participantes vendrán con su portátil o utilizar los del FabLab. El material serán planchas de DM que pondrá a disposición el FabLab. \nDOCENTE \nBernardo Cerdán \nLUGAR \nFab Lab CIEC\nCalle del Prat\, 59\nVicálvaro | Madrid CP 28032
URL:https://ciecmadrid.es/actividades/corte-laser-dic-2/
LOCATION:CIEC Madrid\, Calle del Prat\, 59\, Madrid\, Vicálvaro\, 28032\, España
CATEGORIES:Corte Láser,Herramientas Digitales
ATTACH;FMTTYPE=image/jpeg:https://ciecmadrid.es/wp-content/uploads/2023/11/CORTELASER_header1.jpg
END:VEVENT
END:VCALENDAR