BEGIN:VCALENDAR
VERSION:2.0
PRODID:-//CIEC | MADRID - ECPv6.7.1//NONSGML v1.0//EN
CALSCALE:GREGORIAN
METHOD:PUBLISH
X-WR-CALNAME:CIEC | MADRID
X-ORIGINAL-URL:https://ciecmadrid.es
X-WR-CALDESC:Eventos para CIEC | MADRID
REFRESH-INTERVAL;VALUE=DURATION:PT1H
X-Robots-Tag:noindex
X-PUBLISHED-TTL:PT1H
BEGIN:VTIMEZONE
TZID:Europe/Madrid
BEGIN:DAYLIGHT
TZOFFSETFROM:+0100
TZOFFSETTO:+0200
TZNAME:CEST
DTSTART:20240331T010000
END:DAYLIGHT
BEGIN:STANDARD
TZOFFSETFROM:+0200
TZOFFSETTO:+0100
TZNAME:CET
DTSTART:20241027T010000
END:STANDARD
END:VTIMEZONE
BEGIN:VEVENT
DTSTART;TZID=Europe/Madrid:20240319T153000
DTEND;TZID=Europe/Madrid:20240320T190000
DTSTAMP:20260423T092725
CREATED:20240219T111504Z
LAST-MODIFIED:20240314T115011Z
UID:9813-1710862200-1710961200@ciecmadrid.es
SUMMARY:Curso de Iniciación a la Impresión 3D
DESCRIPTION:En este curso Aprenderás a operar con una impresora 3D e imprimir tus diseños en PLA. Para ello adquirirás los conocimientos necesarios para configurar tu impresión para obtener un resultado óptimo. Haremos énfasis a lo largo de toda la formación en el uso correcto y seguro de la máquina.   \n\n¡Inscríbete ahora pinchando aquí!\n\nOBJETIVOS   \nManejar las impresoras del Fab Lab teniendo en cuenta la seguridad y el uso adecuado de la misma. Aprenderás a configurar tus impresiones para obtener el mejor resultado en el menor tiempo posible. Conseguirás resolver problemas que te puedas encontrar.   \nREQUISITOS  \nEs positivo tener conocimientos sobre algún programa de dibujo 3D\, aunque no es necesario.   \nCONTENIDOS   \n– Trabajo en Cura: importación de objetos\, parámetros de impresión\, exportación a .stl.  \n– Funcionamiento de fabricación aditiva.  \n– Partes de la máquina.  \n– Seguridad en el manejo de la máquina.   \n– Materiales  \n– Software impresora 3D: lanzamiento del trabajo y edición de parámetros.  \n¿A QUIÉN VA DIRIGIDO?  \nDiseñadores   \nIngenieros   \nArquitectos   \nMakers   \nA todas aquellas personas que quieran hacer realidad sus ideas.  \nMETODOLOGÍA  \nEste curso tiene una metodología totalmente práctica.  \nNIVEL DEL CURSO  \nNivel Básico. No son necesarios conocimientos previos en fabricación digital  \nORDENADOR Y MATERIALES  \nL@s participantes vendrán con su portátil o utilizar los del FabLab. El filamento para impresión 3d lo pondrá a disposición el FabLab.  \nDOCENTE  \nBernardo Cerdán  \nFECHAS Y HORARIOS  \n* Ver calendario  \nLUGAR  \nFab Lab CIEC   \nCalle del Prat\, 59  \nVicálvaro | Madrid CP 28032 
URL:https://ciecmadrid.es/actividades/curso-de-iniciacion-a-la-impresion-3d/
LOCATION:CIEC Madrid\, Calle del Prat\, 59\, Madrid\, Vicálvaro\, 28032\, España
CATEGORIES:Herramientas Digitales,Impresión 3D
ATTACH;FMTTYPE=image/png:https://ciecmadrid.es/wp-content/uploads/2024/02/PLANTILLA-RRSS-FABPRO-12.png
END:VEVENT
BEGIN:VEVENT
DTSTART;TZID=Europe/Madrid:20240320T123000
DTEND;TZID=Europe/Madrid:20240320T143000
DTSTAMP:20260423T092725
CREATED:20240110T144654Z
LAST-MODIFIED:20240110T144654Z
UID:9072-1710937800-1710945000@ciecmadrid.es
SUMMARY:II Programa Piloto Compostaje: Sesión 3 | Legislación\, Desafíos y Casos de éxito del compostaje descentralizado
DESCRIPTION:  \n\n¡Inscríbete ahora pinchando aquí!\n\n \n \n \n \nEn esta sesión se dará a conocer la normativa respecto a la gestión de residuos orgánicos\, los diversos modelos de gestión centralizada y descentralizada de los residuos orgánicos\, sus beneficios y desafíos\, así como casos de éxito que inspiren nuevos proyectos de compostaje de residuos orgánicos. Contaremos con la colaboración expertos de referencia en el sector. \n\n\n \nFecha: 20 de marzo de 2024 \n\n\n \nHora: 12:30 a 14:30h \n\n\n \nLocal: CIEC\, Calle del Prat 59\, Vicálvaro\, Madrid \n\n\n \nPonentes: pendientes a confirmar
URL:https://ciecmadrid.es/actividades/ii-programa-piloto-compostaje-sesion-3-legislacion-desafios-y-casos-de-exito-del-compostaje-descentralizado/
LOCATION:CIEC Madrid\, Calle del Prat\, 59\, Madrid\, Vicálvaro\, 28032\, España
CATEGORIES:Programas de compostaje,Soluciones Basadas en la Naturaleza
ATTACH;FMTTYPE=image/jpeg:https://ciecmadrid.es/wp-content/uploads/2023/11/piloto-compostaje.jpg
END:VEVENT
BEGIN:VEVENT
DTSTART;TZID=Europe/Madrid:20240320T150000
DTEND;TZID=Europe/Madrid:20240320T180000
DTSTAMP:20260423T092725
CREATED:20240206T111430Z
LAST-MODIFIED:20240314T115246Z
UID:9574-1710946800-1710957600@ciecmadrid.es
SUMMARY:Charla de Sensibilización. Textil: materias primas secundarias
DESCRIPTION:Evento aplazado: ¡pronto tendremos nueva fecha!\n\n¡Pronto tendremos más información de este evento!
URL:https://ciecmadrid.es/actividades/charla-de-sensibilizacion-textil-materias-primas-secundarias/
LOCATION:CIEC Madrid\, Calle del Prat\, 59\, Madrid\, Vicálvaro\, 28032\, España
CATEGORIES:Economía Circular,Emprendimiento
ATTACH;FMTTYPE=image/jpeg:https://ciecmadrid.es/wp-content/uploads/2024/02/hangers-1850082_1280.jpg
END:VEVENT
BEGIN:VEVENT
DTSTART;TZID=Europe/Madrid:20240221T150000
DTEND;TZID=Europe/Madrid:20240221T190000
DTSTAMP:20260423T092725
CREATED:20231117T093843Z
LAST-MODIFIED:20240322T101340Z
UID:8852-1708527600-1708542000@ciecmadrid.es
SUMMARY:Comunidades de Aprendizaje Orientadas a la Práctica (CAPs)
DESCRIPTION:¡Pincha aquí para inscribirte!\n\nLa CAP permite poner en marcha un proyecto de innovación social transformador con la participación directa de la ciudadanía para la elaboración de proyectos escalables de soluciones basadas en la naturales (SBN) en el municipio. El objetivo es involucrar el tejido social\, grandes empresas inversoras y estudiantes universitarios de grado y/o postgrado de disciplinas afines tales como arquitectura\, forestales o agronomía en la elaboración de proyectos pilotos de diseño de cubiertas verdes\, con el fin de que puedan ser agentes activos en la transformación del distrito y de la ciudad. Con acciones como esta\, además\, se pretende fomentar la innovación\, la accesibilidad a nuevos conocimientos y el aprendizaje\, así como oportunidades de empleo verde sostenible. \nLas personas participantes trabajarán en equipos sobre un objetivo compartido para lograr el desarrollo de proyectos que pueden generar nuevos modelos de negocio y/ o empleo verde\, especialmente para población en riesgo de exclusión. Se trata de un proceso donde se comparte conocimiento para llegar a un fin común y que se establece internamente un plan de trabajo\, un cronograma y un método de intercambio de información para lograr el objetivo inicialmente planteado. A través de esta acción llevada a cabo en el marco del CIEC se fomentará el desarrollo de un ecosistema de economía circular que sea inclusivo. \nPincha aquí para ver el programa completo \nModalidad: Presencial  \nCoste: Gratuito  \nLugar: CIEC\, Calle del Prat 59\, Vicálvaro\, Madrid \nFecha: 21 de febrero a 20 de marzo de 2024 \nHorario: 15 a 19 horas
URL:https://ciecmadrid.es/actividades/comunidades-de-aprendizaje-orientadas-a-la-practica-caps-2/
LOCATION:CIEC Madrid\, Calle del Prat\, 59\, Madrid\, Vicálvaro\, 28032\, España
CATEGORIES:Cubiertas Verdes,Soluciones Basadas en la Naturaleza
ATTACH;FMTTYPE=image/jpeg:https://ciecmadrid.es/wp-content/uploads/2023/11/CAPS.jpg
END:VEVENT
END:VCALENDAR