BEGIN:VCALENDAR
VERSION:2.0
PRODID:-//CIEC | MADRID - ECPv6.7.1//NONSGML v1.0//EN
CALSCALE:GREGORIAN
METHOD:PUBLISH
X-ORIGINAL-URL:https://ciecmadrid.es
X-WR-CALDESC:Eventos para CIEC | MADRID
REFRESH-INTERVAL;VALUE=DURATION:PT1H
X-Robots-Tag:noindex
X-PUBLISHED-TTL:PT1H
BEGIN:VTIMEZONE
TZID:Europe/Madrid
BEGIN:DAYLIGHT
TZOFFSETFROM:+0100
TZOFFSETTO:+0200
TZNAME:CEST
DTSTART:20240331T010000
END:DAYLIGHT
BEGIN:STANDARD
TZOFFSETFROM:+0200
TZOFFSETTO:+0100
TZNAME:CET
DTSTART:20241027T010000
END:STANDARD
END:VTIMEZONE
BEGIN:VEVENT
DTSTART;TZID=Europe/Madrid:20240315T160000
DTEND;TZID=Europe/Madrid:20240315T160000
DTSTAMP:20260423T092927
CREATED:20240215T155448Z
LAST-MODIFIED:20240429T113218Z
UID:9793-1710518400-1710518400@ciecmadrid.es
SUMMARY:Tecnologías de Fabricación Digital - ETSII
DESCRIPTION:Inscripciones completas.\n\nEn este curso aprenderás los conceptos fundamentales de tres de las tecnologías más habituales que encontrarás en un laboratorio de fabricación digital o FabLab: la impresión 3D\, el corte láser y el fresado CNC.   \nOBJETIVOS   \nAprender a preparar los archivos vectoriales digitales y las correspondientes instrucciones (gcodes) para las diferentes máquinas: impresoras 3d\, cortadora láser y fresadora CNC.   \nREQUISITOS  \nEs positivo tener conocimientos sobre algún programa de dibujo vectorial\, aunque no es necesario.  \nCONTENIDOS   \n\nIntroducción a la Fabricación Digital. \nProgramas de dibujo 2D y 3D \nPreparación de archivos para las diferentes tecnologías de fabricación digital. \nManejo de maquinaria y producción de los trabajos.  \n\n¿A QUIÉN VA DIRIGIDO?  \nEstudiantes de la ETSII de UPM. \nMETODOLOGÍA  \nEste curso tiene formato de taller con una metodología totalmente práctica.  \nNIVEL DEL CURSO  \nNivel Básico. No son necesarios conocimientos previos en fabricación digital  \nORDENADOR Y MATERIALES  \nL@s participantes vendrán con su portátil. El material lo pondrá a disposición el FabLab.  \nDOCENTE  \nBernardo Cerdán  \nLUGAR  \nFabLab MAKETSII \nC/José Gutiérrez Abascal\, 2 \n28006 Madrid  \n  \n  \n 
URL:https://ciecmadrid.es/actividades/tecnologias-de-fabricacion-3/
LOCATION:Fab Lab ETSII\, Calle José Gutiérrez Abascal\, 2\, Madrid\, Madrid\, 28006\, España
CATEGORIES:Corte Láser,Fresado CNC,Herramientas Digitales,Impresión 3D
ATTACH;FMTTYPE=image/jpeg:https://ciecmadrid.es/wp-content/uploads/2023/11/tecnologiafabricacion.jpg
END:VEVENT
BEGIN:VEVENT
DTSTART;TZID=Europe/Madrid:20240321T153000
DTEND;TZID=Europe/Madrid:20240321T170000
DTSTAMP:20260423T092927
CREATED:20240208T101540Z
LAST-MODIFIED:20240221T091216Z
UID:9677-1711035000-1711040400@ciecmadrid.es
SUMMARY:Circulary Rush: Agroalimentación y Hostelería
DESCRIPTION:¡Inscríbete ahora pinchando aquí!\n\nEl próximo día 21 de Marzo\, contaremos con el Circulary Rush de Agroalimentación\, con el objetivo de que podáis aprender herramientas de Emprendimiento Circular llevándolo a la práctica.   Contaremos con Diego Beltrán\, Socio de La Osa #844″ para que expongan un reto real dentro del sector de la agroalimentación. Te compartimos el reto de antemano para que puedas empezar a darle vueltas a tu imaginación:  “¿Cómo hacemos llegar el modelo cooperativo de La Osa a un público joven y que resuene con los valores de la soberanía alimentaria?”   El objetivo de la sesión será investigar\, idear\, diseñar y conceptualizar una posible solución que de respuesta a ese reto mediante herramientas de emprendimiento circular.   Contarás con un equipo multidisciplinar en el cual todos aportaréis vuestros conocimientos en vuestras distintas áreas de expertise.  \nTrabajaréis en equipo en todo momento y la sesión será online\, por lo que no tienes que preocuparte de estar disponible presencialmente. Sólo necesitarás tener Microsoft Teams.
URL:https://ciecmadrid.es/actividades/circulary-rush-agroalimentacion-y-hosteleria/
LOCATION:CIEC Madrid\, Calle del Prat\, 59\, Madrid\, Vicálvaro\, 28032\, España
CATEGORIES:Diseño Circular,Economía Circular
ATTACH;FMTTYPE=image/png:https://ciecmadrid.es/wp-content/uploads/2024/02/CIRCULARY-RUSH-2.png
END:VEVENT
END:VCALENDAR