BEGIN:VCALENDAR
VERSION:2.0
PRODID:-//CIEC | MADRID - ECPv6.7.1//NONSGML v1.0//EN
CALSCALE:GREGORIAN
METHOD:PUBLISH
X-ORIGINAL-URL:https://ciecmadrid.es
X-WR-CALDESC:Eventos para CIEC | MADRID
REFRESH-INTERVAL;VALUE=DURATION:PT1H
X-Robots-Tag:noindex
X-PUBLISHED-TTL:PT1H
BEGIN:VTIMEZONE
TZID:Europe/Madrid
BEGIN:DAYLIGHT
TZOFFSETFROM:+0100
TZOFFSETTO:+0200
TZNAME:CEST
DTSTART:20240331T010000
END:DAYLIGHT
BEGIN:STANDARD
TZOFFSETFROM:+0200
TZOFFSETTO:+0100
TZNAME:CET
DTSTART:20241027T010000
END:STANDARD
END:VTIMEZONE
BEGIN:VEVENT
DTSTART;TZID=Europe/Madrid:20240417T090000
DTEND;TZID=Europe/Madrid:20240417T140000
DTSTAMP:20260423T112616
CREATED:20240215T153547Z
LAST-MODIFIED:20240215T153548Z
UID:9783-1713344400-1713362400@ciecmadrid.es
SUMMARY:Upcycling Moda con Corte Láser - IES Joaquín Rodrigo
DESCRIPTION:En este curso adquirirás los conocimientos necesarios para poder manejar una cortadora láser de CO2. Aprenderás cómo preparar los archivos vectoriales en Inkscape para poderlos importar en el software de la máquina y así poder configurar tu trabajo para obtener un resultado óptimo. Veremos qué materiales son los más idóneos para el corte láser y sus parámetros. Haremos énfasis a lo largo de toda la formación en el uso correcto y seguro de la máquina. \n\nInscripción Completa\n\n  \nOBJETIVOS \nManejar la cortadora láser de CO2 del FabLab teniendo en cuenta la seguridad y el uso adecuado de la misma. Aprenderás a cortar\, marcar y hacer sombreados con el láser. Conseguirás resolver problemas que te puedas encontrar. \nREQUISITOS \nEs positivo tener conocimientos sobre algún programa de dibujo vectorial\, aunque no es necesario. \nCONTENIDOS \n\nTrabajo en Inkscape: importación de vectores\, organización de capas\, exportación en .dxf.\nFuncionamiento de la tecnología láser y partes de la máquina.\nSeguridad en el manejo de la máquina.\nMateriales.\nSoftware máquina láser: importación de archivos\, orden de las capas\, configuración de parámetros para el láser y lanzamiento del trabajo.\n\n¿A QUIÉN VA DIRIGIDO? \n\nDiseñadores.\nIngenieros.\nArquitectos.\nMakers.\nA todas aquellas personas que quieran hacer realidad sus ideas.\n\nMETODOLOGÍA \nEste curso tiene formato workshop con una metodología totalmente práctica. \nNIVEL DEL CURSO \nNivel Básico. No son necesarios conocimientos previos en fabricación digital. \nORDENADOR Y MATERIALES \nL@s participantes vendrán con su portátil o utilizar los del FabLab. El material serán planchas de DM que pondrá a disposición el FabLab. \nDOCENTE \nBernardo Cerdán. \nLUGAR \nFab Lab CIEC\nCalle del Prat\, 59\nVicálvaro | Madrid CP 28032
URL:https://ciecmadrid.es/actividades/iniciacion-al-corte-laser-ies-joaquin-rodrigo-3/
LOCATION:CIEC Madrid\, Calle del Prat\, 59\, Madrid\, Vicálvaro\, 28032\, España
CATEGORIES:Corte Láser,Herramientas Digitales
ATTACH;FMTTYPE=image/jpeg:https://ciecmadrid.es/wp-content/uploads/2023/11/CORTELASER_header1.jpg
END:VEVENT
BEGIN:VEVENT
DTSTART;TZID=Europe/Madrid:20240417T160000
DTEND;TZID=Europe/Madrid:20240417T173000
DTSTAMP:20260423T112616
CREATED:20240410T090514Z
LAST-MODIFIED:20240410T090514Z
UID:10054-1713369600-1713375000@ciecmadrid.es
SUMMARY:Charla de Sensibilización. Medicina Biotech: Gestión de residuos sanitarios
DESCRIPTION:¡Inscríbete pinchando aquí!\n\nEn los últimos años se ha detectado un importante aumento de los residuos sanitarios generados como consecuencia del incremento de la actividad sanitaria\, el incremento del material médico desechable utilizado\, etc.  Los productos utilizados en los tratamientos y procedimientos médicos actuales son cada vez más variados y complejos. Esta situación conlleva la generación de una amplia gama de residuos que se van a caracterizar por su heterogeneidad e incluso\, en algunos casos\, por su peligrosidad.  La gestión incorrecta de determinados residuos sanitarios\, en concreto\, aquellos que son peligrosos\, puede liberar al medio ambiente sustancias que resultan dañinas para los or­ganismos vivos. Por ello\, la normativa básica sobre residuos establece la obligación de gestionar los residuos peligrosos adecuadamente a través de su correcta identifica­ción\, separación\, almacenamiento y entrega a un gestor autorizado para su poste­rior tratamiento y/o eliminación. \nPonente: Itziar Igartua\, técnico de la Unidad de Gestión Ambiental Hospital Universitario Ramón y Cajal. Subdirección de Servicios Generales Gestión Medioambiental.
URL:https://ciecmadrid.es/actividades/charla-de-sensibilizacion-medicina-biotech-gestion-de-residuos-sanitarios/
LOCATION:CIEC Madrid\, Calle del Prat\, 59\, Madrid\, Vicálvaro\, 28032\, España
CATEGORIES:Economía Circular,Emprendimiento
ATTACH;FMTTYPE=image/png:https://ciecmadrid.es/wp-content/uploads/2024/04/SENS-MEDICINA.png
END:VEVENT
END:VCALENDAR