BEGIN:VCALENDAR
VERSION:2.0
PRODID:-//CIEC | MADRID - ECPv6.7.1//NONSGML v1.0//EN
CALSCALE:GREGORIAN
METHOD:PUBLISH
X-WR-CALNAME:CIEC | MADRID
X-ORIGINAL-URL:https://ciecmadrid.es
X-WR-CALDESC:Eventos para CIEC | MADRID
REFRESH-INTERVAL;VALUE=DURATION:PT1H
X-Robots-Tag:noindex
X-PUBLISHED-TTL:PT1H
BEGIN:VTIMEZONE
TZID:Europe/Madrid
BEGIN:DAYLIGHT
TZOFFSETFROM:+0100
TZOFFSETTO:+0200
TZNAME:CEST
DTSTART:20240331T010000
END:DAYLIGHT
BEGIN:STANDARD
TZOFFSETFROM:+0200
TZOFFSETTO:+0100
TZNAME:CET
DTSTART:20241027T010000
END:STANDARD
END:VTIMEZONE
BEGIN:VEVENT
DTSTART;TZID=Europe/Madrid:20240619T093000
DTEND;TZID=Europe/Madrid:20240619T113000
DTSTAMP:20260423T075316
CREATED:20240614T135830Z
LAST-MODIFIED:20240614T135830Z
UID:10214-1718789400-1718796600@ciecmadrid.es
SUMMARY:Economía Circular y Construcción
DESCRIPTION:¡Abierto al público hasta completa el aforo!\n\nSesión Grupal de Circularización del sector de la Construcción titulada “Una visón global de la Economía Circular desde el sector de la Construcción”.
URL:https://ciecmadrid.es/actividades/economia-circular-y-construccion/
LOCATION:CIEC Madrid\, Calle del Prat\, 59\, Madrid\, Vicálvaro\, 28032\, España
CATEGORIES:Economía Circular,Emprendimiento
ATTACH;FMTTYPE=image/png:https://ciecmadrid.es/wp-content/uploads/2024/06/Copia-de-TW.png
END:VEVENT
BEGIN:VEVENT
DTSTART;TZID=Europe/Madrid:20240619T153000
DTEND;TZID=Europe/Madrid:20240619T170000
DTSTAMP:20260423T075316
CREATED:20240520T113306Z
LAST-MODIFIED:20240520T113306Z
UID:10146-1718811000-1718816400@ciecmadrid.es
SUMMARY:Sesión de sensibilización: Economía circular y sostenibilidad aplicada al Turismo
DESCRIPTION:¡Inscríbete ahora pinchando aquí!\n\nEl próximo día miércoles\, 19 de junio\, celebramos una nueva sesión de sensibilización sobre economía circular\, esta vez en el sector turismo. \nSe abordarán algunos aspectos de legislaturas necesarias para convertirse en un espacio de alojamiento turístico o agencia de viaje sostenible. Además\, se presentará una startup que ofrece servicios de vacaciones sostenibles\, brindando ejemplos concretos de prácticas innovadoras y responsables en la industria del turismo  \nContaremos con Víctor Fernández de la Buena Huella y Alex de Enjoy Native. \n¡Te esperamos! \n⏰ Hora: 15:30 – 17:00  \n📍 Lugar: Online
URL:https://ciecmadrid.es/actividades/economia-circular-y-sostenibilidad-aplicada-al-turismo/
LOCATION:Online\, España
CATEGORIES:Diseño Circular,Economía Circular
ATTACH;FMTTYPE=image/png:https://ciecmadrid.es/wp-content/uploads/2024/05/SENS-RESIDUOS-MEDICOS-1.png
END:VEVENT
END:VCALENDAR