BEGIN:VCALENDAR
VERSION:2.0
PRODID:-//CIEC | MADRID - ECPv6.7.1//NONSGML v1.0//EN
CALSCALE:GREGORIAN
METHOD:PUBLISH
X-WR-CALNAME:CIEC | MADRID
X-ORIGINAL-URL:https://ciecmadrid.es
X-WR-CALDESC:Eventos para CIEC | MADRID
REFRESH-INTERVAL;VALUE=DURATION:PT1H
X-Robots-Tag:noindex
X-PUBLISHED-TTL:PT1H
BEGIN:VTIMEZONE
TZID:Europe/Madrid
BEGIN:DAYLIGHT
TZOFFSETFROM:+0100
TZOFFSETTO:+0200
TZNAME:CEST
DTSTART:20240331T010000
END:DAYLIGHT
BEGIN:STANDARD
TZOFFSETFROM:+0200
TZOFFSETTO:+0100
TZNAME:CET
DTSTART:20241027T010000
END:STANDARD
END:VTIMEZONE
BEGIN:VEVENT
DTSTART;TZID=Europe/Madrid:20241030T093000
DTEND;TZID=Europe/Madrid:20241030T113000
DTSTAMP:20260423T042454
CREATED:20240917T104840Z
LAST-MODIFIED:20240917T104840Z
UID:10278-1730280600-1730287800@ciecmadrid.es
SUMMARY:Presentación del FabLab y Conferencia Fabricación Digital para la Economía Circular
DESCRIPTION:Asignatura Sostenibilidad en Construcción – ETSAM \n  \n 
URL:https://ciecmadrid.es/actividades/presentacion-del-fablab-y-conferencia-fabricacion-digital-para-la-economia-circular/
LOCATION:Online\, España
CATEGORIES:FabLab
ATTACH;FMTTYPE=image/jpeg:https://ciecmadrid.es/wp-content/uploads/2023/10/eventoCiec-47.jpg
END:VEVENT
BEGIN:VEVENT
DTSTART;TZID=Europe/Madrid:20241030T130000
DTEND;TZID=Europe/Madrid:20241030T140000
DTSTAMP:20260423T042454
CREATED:20241002T084504Z
LAST-MODIFIED:20241017T064907Z
UID:10381-1730293200-1730296800@ciecmadrid.es
SUMMARY:Webinar Observatorio del Clima
DESCRIPTION:¡Inscríbete pinchando aquí!\n\nEl Observatorio de Acción Climática (OAC)\, en colaboración con el Laboratorio Inclusivo de Soluciones Basadas en la Naturaleza (SBNLab.Inclusión) del Centro de Innovación en Economía Circular (CIEC) del Ayuntamiento de Madrid\, llevará a cabo el webinar “Neutralidad Climática y Ciudades Españolas” donde presentará el informe “Liderazgo de ciudades españolas hacia la neutralidad climática: Buenas prácticas a 2024” el día 30 de octubre de 2024\, en las instalaciones del CIEC. Este evento será una oportunidad para analizar el progreso y las estrategias innovadoras que las ciudades españolas han implementado en su camino hacia la neutralidad climática\, presentando ejemplos concretos de éxito. \nPonentes destacados: \nJuan Azcárate\, Subdirector de Energía y Cambio Climático del Ayuntamiento de Madrid. \nSergio Álvarez\, Presidente del Observatorio de Acción Climática (OAC) y docente en la Universidad Politécnica de Madrid. \nRodrigo Urbano\, Planificador Urbano e Investigador en el Equipo Técnico del OAC. \nDuración:\n1 h \nHorario y fechas:\nMiércoles 30 octubre\, de 13:00 a 14:000h. \nLugar:\nCIEC Madrid. Espacio central.\nC/ Prat\, 59\n28032 Madrid
URL:https://ciecmadrid.es/actividades/webinar-observatorio-del-clima/
LOCATION:CIEC Madrid\, Calle del Prat\, 59\, Madrid\, Vicálvaro\, 28032\, España
CATEGORIES:Economía Circular
ATTACH;FMTTYPE=image/png:https://ciecmadrid.es/wp-content/uploads/2024/10/OBSERVATORIO-RRSS-1.png
END:VEVENT
END:VCALENDAR