BEGIN:VCALENDAR
VERSION:2.0
PRODID:-//CIEC | MADRID - ECPv6.7.1//NONSGML v1.0//EN
CALSCALE:GREGORIAN
METHOD:PUBLISH
X-ORIGINAL-URL:https://ciecmadrid.es
X-WR-CALDESC:Eventos para CIEC | MADRID
REFRESH-INTERVAL;VALUE=DURATION:PT1H
X-Robots-Tag:noindex
X-PUBLISHED-TTL:PT1H
BEGIN:VTIMEZONE
TZID:Europe/Madrid
BEGIN:DAYLIGHT
TZOFFSETFROM:+0100
TZOFFSETTO:+0200
TZNAME:CEST
DTSTART:20240331T010000
END:DAYLIGHT
BEGIN:STANDARD
TZOFFSETFROM:+0200
TZOFFSETTO:+0100
TZNAME:CET
DTSTART:20241027T010000
END:STANDARD
END:VTIMEZONE
BEGIN:VEVENT
DTSTART;VALUE=DATE:20241121
DTEND;VALUE=DATE:20241124
DTSTAMP:20260423T061637
CREATED:20241114T100754Z
LAST-MODIFIED:20241120T091004Z
UID:10921-1732147200-1732406399@ciecmadrid.es
SUMMARY:IberoFABLaT Fest 2024. Segundo encuentro de las redes Ibero FAB y FAB LaT: "Ciencia Ciudadana\, Fabricando Futuros Circulares"
DESCRIPTION:¡Ya te puedes inscribir pinchando aquí!\n\n\nEl IberoFABLat Fest / II Encuentro Iberoamericano de FabLabs\, titulado “Ciencia Ciudadana\, Fabricando Futuros Circulares” es un evento distribuido a nivel global desde distintos FabLabs de la red IberoFABLaT y se celebra el 21\, 22 y 23 de Noviembre. Este encuentro es una plataforma para compartir experiencias y conocimientos y\, además\, se trata de una oportunidad para inspirar acciones concretas hacia un futuro más circular y colaborativo. En esta edición el contenido se centra en dos temáticas principales: ciencia ciudadana y economía circular. \nEl principal objetivo de este encuentro es explorar y ampliar el impacto de los FabLabs en la promoción de un futuro sostenible teniendo en cuenta la filosofía de la economía circular y la importancia de la ciencia ciudadana. Este encuentro busca: \n\nFomentar la colaboración: Crear y fortalecer redes entre FabLabs\, instituciones\, empresas\, startups y ciudadanos.\nInnovación y sostenibilidad: Demostrar cómo la tecnología y la innovación abierta pueden contribuir al bienestar social y ambiental.\nEducación y participación ciudadana: Involucrar a la comunidad en la ciencia y la tecnología para democratizar la innovación.\n\n\nPrograma: \nEl programa está distribuido en tres jornadas temáticas: \n\nJueves 21 de noviembre: Día de la Circularidad\, centrado en estrategias y tecnologías para eliminar residuos y contaminación\, circular productos y materiales y regenerar la naturaleza.\nViernes 22 de noviembre: Día de la Ciencia Ciudadana\, dedicado a la exploración de cómo la participación ciudadana puede acelerar la innovación.\nSábado 23 de noviembre: Día dedicado al debate sobre los temas expuestos en los días anteriores y a la muestra de distintos proyectos.\n\n\nFormato: \nOnline/presencial/distribuido (depende de cada actividad) \nDescarga el programa completo desde este enlace
URL:https://ciecmadrid.es/actividades/iberofablat-fest-2024-segundo-encuentro-de-las-redes-ibero-fab-y-fab-lat-ciencia-ciudadana-fabricando-futuros-circulares/
LOCATION:CIEC Madrid\, Calle del Prat\, 59\, Madrid\, Vicálvaro\, 28032\, España
CATEGORIES:Herramientas Digitales
ATTACH;FMTTYPE=image/jpeg:https://ciecmadrid.es/wp-content/uploads/2024/11/IberoFABLaT-Fest-2024.jpg
END:VEVENT
BEGIN:VEVENT
DTSTART;TZID=Europe/Madrid:20241121T153000
DTEND;TZID=Europe/Madrid:20241121T190000
DTSTAMP:20260423T061637
CREATED:20240920T112200Z
LAST-MODIFIED:20240924T115845Z
UID:10311-1732203000-1732215600@ciecmadrid.es
SUMMARY:Curso de Iniciación al Corte Láser
DESCRIPTION:En este curso adquirirás los conocimientos necesarios para poder manejar una cortadora láser de CO2. Aprenderás cómo preparar los archivos vectoriales en un software vectorial para poderlos importar en el software de la máquina y así poder configurar tu trabajo para obtener un resultado óptimo. Veremos qué materiales son los más idóneos para el corte láser y sus parámetros. Haremos énfasis a lo largo de toda la formación en el uso correcto y seguro de la máquina. \n\n¡Inscríbete ahora pinchando aquí!\n\n\nEl contenido del taller es el siguiente: \n– Trabajo en software vectorial: importación de vectores\, organización de capas\, exportación en .dxf.\n– Funcionamiento de la tecnología láser y partes de la máquina.\n– Seguridad en el manejo de la máquina.\n– Materiales\n– Software máquina láser: importación de archivos\, orden de las capas\, configuración de parámetros para el láser y lanzamiento del trabajo. \nIntervinientes:\nDavid Hidalgo\, Bernardo Cerdán y Lucía Lucas \nDuración:\n7 h \nHorario y fechas:\nEdición 1: Martes 15 y Jueves 17 Octubre.(15:30.19:00)\nEdición 2: Martes 19 y Jueves 21 Noviembre. (15:30.19:00)\nEdición 3: Miércoles 11 y Viernes 13 Diciembre. (15:30.19:00) \nLugar:\nFabLab CIEC Madrid\nC/ Prat\, 59\n28032 Madrid\nC/ Prat\, 59\n28032 Madrid
URL:https://ciecmadrid.es/actividades/curso-de-iniciacion-al-corte-laser-6/
LOCATION:CIEC Madrid\, Calle del Prat\, 59\, Madrid\, Vicálvaro\, 28032\, España
CATEGORIES:Corte Láser,Herramientas Digitales
ATTACH;FMTTYPE=image/png:https://ciecmadrid.es/wp-content/uploads/2024/09/PLANTILLA-RRSS-FABPRO-25.png
END:VEVENT
END:VCALENDAR