BEGIN:VCALENDAR
VERSION:2.0
PRODID:-//CIEC | MADRID - ECPv6.7.1//NONSGML v1.0//EN
CALSCALE:GREGORIAN
METHOD:PUBLISH
X-ORIGINAL-URL:https://ciecmadrid.es
X-WR-CALDESC:Eventos para CIEC | MADRID
REFRESH-INTERVAL;VALUE=DURATION:PT1H
X-Robots-Tag:noindex
X-PUBLISHED-TTL:PT1H
BEGIN:VTIMEZONE
TZID:Europe/Madrid
BEGIN:DAYLIGHT
TZOFFSETFROM:+0100
TZOFFSETTO:+0200
TZNAME:CEST
DTSTART:20250330T010000
END:DAYLIGHT
BEGIN:STANDARD
TZOFFSETFROM:+0200
TZOFFSETTO:+0100
TZNAME:CET
DTSTART:20251026T010000
END:STANDARD
END:VTIMEZONE
BEGIN:VEVENT
DTSTART;VALUE=DATE:20250217
DTEND;VALUE=DATE:20250308
DTSTAMP:20260423T102246
CREATED:20250217T103815Z
LAST-MODIFIED:20250227T125904Z
UID:11103-1739750400-1741391999@ciecmadrid.es
SUMMARY:Materiales circulares: Nueva vida para el plástico técnico
DESCRIPTION:Exposición de trabajos de investigación de la Escuela Técnica Superior de Arquitectura de Madrid (UPM) centrados en el reciclaje y la reutilización del plástico procedente del pelado y triturado de cables desmantelados en plantas industriales\, utilizando para ello tecnología de fabricación digital y principios de economía circular. \nOrganizadores:\nETSAM-SURUS-FABLAB CIEC \nCoordinación exposición:\nBeatriz Alonso – SURUS \nProfesor responsable:\nDavid Sanz – ETSAM \nInvestigador:\nÁngel Agüero \nAsignatura:\nMateriales de Construcción\, 2º curso (Grado en Fundamentos de la Arquitectura\, ETSAM) \nManager FabLab:\nLucía Lucas \nTécnico FabLab:\nBernardo Cerdán
URL:https://ciecmadrid.es/actividades/materiales-circulares-nueva-vida-para-el-plastico-tecnico/
LOCATION:CIEC Madrid\, Calle del Prat\, 59\, Madrid\, Vicálvaro\, 28032\, España
CATEGORIES:Economía Circular,FabLab
END:VEVENT
BEGIN:VEVENT
DTSTART;VALUE=DATE:20250303
DTEND;VALUE=DATE:20250307
DTSTAMP:20260423T102246
CREATED:20250226T125223Z
LAST-MODIFIED:20250226T125734Z
UID:11186-1740960000-1741305599@ciecmadrid.es
SUMMARY:"Hackathon for Sustainable Fashion & New Materials: Weaving Sustainability Across Design Dimensions"
DESCRIPTION:Se propone un hackathon de innovación multidisciplinar que reúna a estudiantes\, empresas\, startups\, especialistas y expertos académicos para abordar desafíos del mundo real en la intersección de la moda\, la tecnología y la circularidad propuestos por empresas. El hackatón se centrará en fomentar la innovación a través de esfuerzos colaborativos y resolución práctica de problemas. \n¿Qué es un hackatón?\nUn hackatón es un evento de innovación en el que diferentes personas se reunen para dar solución a uno o más retos relacionados con problemáticas reales en un determinado espacio de tiempo. Por lo general se trabaja de manera colaborativa en equipos multidisciplinares. \nParticipantes:\n– ITU (Istambul Technical University)\n– UDIT (Universidad de Diseño Innovación y Tecnología)\n– UPM (Universidad Politécnica de Madrid)\n– PSL (Paris Science & Letters) \n– Asecom\n– Fecsa\n– Farrás Home\n– Venus\n– Sepiia  \nLíneas de trabajo:\n– Fabricación Digital\n– Biomateriales y Biotecnología Sostenible\n– Técnicas Experimentales y Artesanía Digital\n– Tecnologías Vestibles (Wearables) \nRetos propuestos:\n \nReto 1\nVenus \nProyecto de trazabilidad basada en blockchain de origen y aduanas en la industria textil \nReto 2\nVenus \nDesarrollo de un bañador 100% biodegradable como solución a la contaminación textil \nReto 3\nAsecom \nHerramienta digital: Guía de estandarización y equivalencia en tallajes textiles y de moda en Europa y Reino Unido \nReto 4\nFarras Home \nMejorar la capacidad ignífuga de sus materiales es una prioridad hoy en día. \nLana ignífuga 100% natural – Innovación sin químicos (ESTA ES NUESTRA PRIORIDAD para pasar de C a B) \nReto 5\nFarras Home \nLana ignífuga para espacios arquitectónicos sostenibles \nReto 6\nFarras Home \nImpresión digital basada en patrones naturales \nReto 7\nSepiia \nCamisetas inteligentes para el seguimiento y análisis del rendimiento de los deportistas con IA. \nReto 8\nSepiia \nPrendas que Regulan la Temperatura Corporal \nReto 9\nSepiia \nExpansión a Ropa Corporativa Inteligente \nReto 10\nFecsa \nDiseño de prendas con menor desperdicio de material. Este reto busca optimizar los procesos de diseño y patronaje para reducir al máximo el desperdicio textil. \nReto 11\nFecsa \nFabricación de prendas con materiales inteligentes. Este reto tiene como objetivo la investigación y desarrollo de tejidos avanzados que mejoren el rendimiento\, la seguridad y el confort de los uniformes. \nReto 12\nFecsa \nReciclaje y reutilización de prendas. El reto está orientado al desarrollo de estrategias para alargar la vida útil de los productos textiles y reincorporar materiales a la cadena de producción. \nReto 13\nNodos by G \nBiomateriales para sustituir textiles sintéticos. \nHorario y fechas: \nSemana de preparación (online): 24-28 Febrero (13:30 a 14:30)\nSemana del hackatón (presencial/online): 3-6 Marzo (10:00-19:00) \nLugar:\nPresencial y online \n 
URL:https://ciecmadrid.es/actividades/hackathon-for-sustainable-fashion-new-materials-weaving-sustainability-across-design-dimensions/
LOCATION:CIEC Madrid\, Calle del Prat\, 59\, Madrid\, Vicálvaro\, 28032\, España
ATTACH;FMTTYPE=image/jpeg:https://ciecmadrid.es/wp-content/uploads/2025/02/f035fdce-5ab8-4a9e-83ac-bb6da31fd49e.jpg
END:VEVENT
BEGIN:VEVENT
DTSTART;TZID=Europe/Madrid:20250305T160000
DTEND;TZID=Europe/Madrid:20250305T173000
DTSTAMP:20260423T102246
CREATED:20250227T092619Z
LAST-MODIFIED:20250303T111018Z
UID:11194-1741190400-1741195800@ciecmadrid.es
SUMMARY:Itinerario Formativo Economía Circular aplicada a la Arquitectura
DESCRIPTION:Desde el CIEC (Centro de Innovación en Economía Circular)\, hemos organizado este itinerario formativo online sobre Economía Circular aplicada a la Arquitectura\, con el objetivo de proporcionar herramientas y conocimientos clave para su implementación en proyectos arquitectónicos.\nEl programa se desarrollará en cuatro sesiones de 1h 30min y abordará desde tendencias y estrategias hasta herramientas de evaluación y casos prácticos.\n\n\nMiércoles\, 5 de marzo – Introducción práctica a la economía circular y nuevas tendencias. Impartido por una experta en arquitectura.\nLunes\, 10  de marzo – Fabricación Digital para la Construcción Circular. Impartido por FabLab.\nMartes 12 de marzo – Evaluación de Impacto Ambiental en Proyectos Arquitectónicos: Herramientas y Métricas. Impartido por Tecnalia.\nMiércoles\, 19 de marzo – Sesión práctica de arquitectura circular. Impartido por [Nosotros].\nEl itinerario está dirigido a estudios de arquitectura y profesionales del sector interesados en integrar criterios circulares en sus proyectos.\n\nInscripción gratuita: https://forms.office.com/e/Fn2UjeH7a0
URL:https://ciecmadrid.es/actividades/itinerario-formativo-economia-circular-aplicada-a-la-arquitectura/
LOCATION:Vicálvaro
CATEGORIES:Formación,Itinerario competencial,Itinerario de Economía Circular,Itinerario de Emprendimiento Circular,Itinerario Economía Circular Accesible,Itinerario Economía Circular aplicado a la arquitectura,Itinerario Formación de Formadores,Itinerario Foro Empleo
END:VEVENT
END:VCALENDAR