BEGIN:VCALENDAR
VERSION:2.0
PRODID:-//CIEC | MADRID - ECPv6.7.1//NONSGML v1.0//EN
CALSCALE:GREGORIAN
METHOD:PUBLISH
X-ORIGINAL-URL:https://ciecmadrid.es
X-WR-CALDESC:Eventos para CIEC | MADRID
REFRESH-INTERVAL;VALUE=DURATION:PT1H
X-Robots-Tag:noindex
X-PUBLISHED-TTL:PT1H
BEGIN:VTIMEZONE
TZID:Europe/Madrid
BEGIN:DAYLIGHT
TZOFFSETFROM:+0100
TZOFFSETTO:+0200
TZNAME:CEST
DTSTART:20250330T010000
END:DAYLIGHT
BEGIN:STANDARD
TZOFFSETFROM:+0200
TZOFFSETTO:+0100
TZNAME:CET
DTSTART:20251026T010000
END:STANDARD
END:VTIMEZONE
BEGIN:VEVENT
DTSTART;TZID=Europe/Madrid:20250313T173000
DTEND;TZID=Europe/Madrid:20250313T190000
DTSTAMP:20260423T115037
CREATED:20250310T140003Z
LAST-MODIFIED:20250311T165101Z
UID:11215-1741887000-1741892400@ciecmadrid.es
SUMMARY:OPEN LAB #20: Transformación Industrial como vehículo para la Economía circular
DESCRIPTION:Transformación Industrial como vehículo para la Economía circular \nPonente:\n \nSantiago Osuna Ruiz-Poveda\nIngeniero Químico (1998) por la Universidad de Castilla La Mancha\, es Gerente de Desarrollo de Negocio de Química y jefe de licencias en la compañía Repsol. Su experiencia profesional recorre desde la investigación base\, ingeniería\, optimizaciones de procesos y valoración de tecnologías en el sector petroquímico y de energía\, base con la que he podido desarrollar\, liderar y coordinar proyectos tanto de innovación como nuevos negocios.\n\nDesde 2016\, trabajando en el desarrollo de procesos y negocios relacionados con la sostenibilidad pudiendo destacar participación en proyectos como Ecoplanta o consorcios europeos como Plastic2Olefins para el desarrollo de tecnologías de valorización de residuos\n\nLugar:\nFabLab CIEC Madrid\nC/ Prat\, 59\n28032 Madrid
URL:https://ciecmadrid.es/actividades/open-lab-19-transformacion-industrial-como-vehiculo-para-la-economia-circular/
LOCATION:CIEC Madrid\, Calle del Prat\, 59\, Madrid\, Vicálvaro\, 28032\, España
CATEGORIES:FabLab
ATTACH;FMTTYPE=image/png:https://ciecmadrid.es/wp-content/uploads/2025/03/OpenLabs-20.png
END:VEVENT
END:VCALENDAR