BEGIN:VCALENDAR
VERSION:2.0
PRODID:-//CIEC | MADRID - ECPv6.7.1//NONSGML v1.0//EN
CALSCALE:GREGORIAN
METHOD:PUBLISH
X-WR-CALNAME:CIEC | MADRID
X-ORIGINAL-URL:https://ciecmadrid.es
X-WR-CALDESC:Eventos para CIEC | MADRID
REFRESH-INTERVAL;VALUE=DURATION:PT1H
X-Robots-Tag:noindex
X-PUBLISHED-TTL:PT1H
BEGIN:VTIMEZONE
TZID:Europe/Madrid
BEGIN:DAYLIGHT
TZOFFSETFROM:+0100
TZOFFSETTO:+0200
TZNAME:CEST
DTSTART:20250330T010000
END:DAYLIGHT
BEGIN:STANDARD
TZOFFSETFROM:+0200
TZOFFSETTO:+0100
TZNAME:CET
DTSTART:20251026T010000
END:STANDARD
END:VTIMEZONE
BEGIN:VEVENT
DTSTART;VALUE=DATE:20250423
DTEND;VALUE=DATE:20250501
DTSTAMP:20260423T115804
CREATED:20250408T085337Z
LAST-MODIFIED:20250416T101430Z
UID:11272-1745366400-1746057599@ciecmadrid.es
SUMMARY:Taller técnico de Compostaje
DESCRIPTION:Dirigido a personas en situación de vulnerabilidad psicosocial \n\n¡Inscríbete ahora pinchando aquí!\n\n \n \n \n \nParticipa en la primera edición del Taller técnico de Compostaje\, que se llevará a cabo desde el Laboratorio Inclusivo de Soluciones Basadas en la Naturaleza (#SBNLabInclusión) enmarcado dentro del Centro de Innovación en Economía Circular del Ayuntamiento de Madrid\, y que tendrá lugar del 23 al 30 de abril de 2025 en horario de 9:30 a 14:30h. \nEl objetivo general es el de proporcionar habilidades y competencias en el conocimiento de la gestión de los residuos orgánicos a través del compostaje\, para la generación de nuevos modelos de negocio y empleo verde dentro del ecosistema circular\, preparando futuros profesionales para las nuevas demandas de empleo\, en el marco de la transición ecológica. \nEl taller se desarrollará en 6 sesiones de 5 horas\, con actividades teórico – prácticas y visitas a puntos de compostaje.Para poder contar con tu participación\, rellena el formulario con tus datos personales\, y nos pondremos en contacto contigo lo antes posible.Fechas: Del 23 al 30 de abril de 2025 (30h presenciales) \n\n\n \n\n\n \n\n\n \nLocal: CIEC\, Calle del Prat 59\, Vicálvaro\, MadridPara más info\, puedes contactarnos al correo: sbnlabinclusivo@ciecmadrid.es
URL:https://ciecmadrid.es/actividades/taller-tecnico-de-compostaje-iii-edicion/
LOCATION:CIEC Madrid\, Calle del Prat\, 59\, Madrid\, Vicálvaro\, 28032\, España
CATEGORIES:Programas de compostaje,Soluciones Basadas en la Naturaleza
ATTACH;FMTTYPE=image/png:https://ciecmadrid.es/wp-content/uploads/2025/04/0.png
END:VEVENT
END:VCALENDAR