BEGIN:VCALENDAR
VERSION:2.0
PRODID:-//CIEC | MADRID - ECPv6.7.1//NONSGML v1.0//EN
CALSCALE:GREGORIAN
METHOD:PUBLISH
X-ORIGINAL-URL:https://ciecmadrid.es
X-WR-CALDESC:Eventos para CIEC | MADRID
REFRESH-INTERVAL;VALUE=DURATION:PT1H
X-Robots-Tag:noindex
X-PUBLISHED-TTL:PT1H
BEGIN:VTIMEZONE
TZID:Europe/Madrid
BEGIN:DAYLIGHT
TZOFFSETFROM:+0100
TZOFFSETTO:+0200
TZNAME:CEST
DTSTART:20250330T010000
END:DAYLIGHT
BEGIN:STANDARD
TZOFFSETFROM:+0200
TZOFFSETTO:+0100
TZNAME:CET
DTSTART:20251026T010000
END:STANDARD
END:VTIMEZONE
BEGIN:VEVENT
DTSTART;TZID=Europe/Madrid:20250612T110000
DTEND;TZID=Europe/Madrid:20250612T140000
DTSTAMP:20260423T170858
CREATED:20250530T104731Z
LAST-MODIFIED:20250530T104731Z
UID:11406-1749726000-1749736800@ciecmadrid.es
SUMMARY:Taller de Impresión 3D con arcilla – Alumnado ESD
DESCRIPTION:Este Taller está dirigido a alumnado de la Escuela Superior de Diseño \nEn este taller veremos cómo trabajar con impresión 3D en arcilla\, desde el diseño de modelos digitales hasta la preparación del material y el manejo de la impresora cerámica. Exploraremos los principios básicos de esta técnica\, sus posibilidades creativas y algunas consideraciones prácticas para lograr piezas exitosas. \nDocentes:\nLucía Lucas y Bernardo Cerdán \nHorario y fechas:\n29 de mayo\, 05 y 12 de junio\, de 11:00 a 14:00 \nLugar:\nFabLab CIEC Madrid\nC/ Prat\, 59\n28032 Madrid \n 
URL:https://ciecmadrid.es/actividades/taller-de-impresion-3d-con-arcilla-alumnado-esd-3/
LOCATION:CIEC Madrid\, Calle del Prat\, 59\, Madrid\, Vicálvaro\, 28032\, España
CATEGORIES:Formación
END:VEVENT
BEGIN:VEVENT
DTSTART;TZID=Europe/Madrid:20250612T153000
DTEND;TZID=Europe/Madrid:20250612T190000
DTSTAMP:20260423T170858
CREATED:20250220T111810Z
LAST-MODIFIED:20250320T105149Z
UID:11156-1749742200-1749754800@ciecmadrid.es
SUMMARY:Curso de Iniciación al Corte Láser
DESCRIPTION:En este curso adquirirás los conocimientos necesarios para poder manejar una cortadora láser de CO2. Aprenderás cómo preparar los archivos vectoriales en un software vectorial para poderlos importar en el software de la máquina y así poder configurar tu trabajo para obtener un resultado óptimo. Veremos qué materiales son los más idóneos para el corte láser y sus parámetros. Haremos énfasis a lo largo de toda la formación en el uso correcto y seguro de la máquina. \n\n¡Inscríbete ahora pinchando aquí!\n\n\nEl contenido del taller es el siguiente: \n– Trabajo en software vectorial: importación de vectores\, organización de capas\, exportación en .dxf.\n– Funcionamiento de la tecnología láser y partes de la máquina.\n– Seguridad en el manejo de la máquina.\n– Materiales.\n– Software máquina láser: importación de archivos\, orden de las capas\, configuración de parámetros para el láser y lanzamiento del trabajo. \nDocente:\nBernardo Cerdán \nDuración:\n7 h \nHorario y fechas:\nEdición 1: 25 y 27 de Marzo (15:30 – 19:00)\nEdición 2: 15 y 16 de Abril (15:30 – 19:00)\nEdición 3: 13 y 16 de Mayo (15:30 – 19:00)\nEdición 4: 10 y 12 de Junio (15:30 – 19:00) \nLugar:\nFabLab CIEC Madrid\nC/ Prat\, 59\n28032 Madrid\nC/ Prat\, 59\n28032 Madrid
URL:https://ciecmadrid.es/actividades/curso-de-iniciacion-al-corte-laser-15/
LOCATION:CIEC Madrid\, Calle del Prat\, 59\, Madrid\, Vicálvaro\, 28032\, España
CATEGORIES:Corte Láser,Herramientas Digitales
ATTACH;FMTTYPE=image/png:https://ciecmadrid.es/wp-content/uploads/2025/02/Laser-4.png
END:VEVENT
END:VCALENDAR