BEGIN:VCALENDAR
VERSION:2.0
PRODID:-//CIEC | MADRID - ECPv6.7.1//NONSGML v1.0//EN
CALSCALE:GREGORIAN
METHOD:PUBLISH
X-WR-CALNAME:CIEC | MADRID
X-ORIGINAL-URL:https://ciecmadrid.es
X-WR-CALDESC:Eventos para CIEC | MADRID
REFRESH-INTERVAL;VALUE=DURATION:PT1H
X-Robots-Tag:noindex
X-PUBLISHED-TTL:PT1H
BEGIN:VTIMEZONE
TZID:Europe/Madrid
BEGIN:DAYLIGHT
TZOFFSETFROM:+0100
TZOFFSETTO:+0200
TZNAME:CEST
DTSTART:20250330T010000
END:DAYLIGHT
BEGIN:STANDARD
TZOFFSETFROM:+0200
TZOFFSETTO:+0100
TZNAME:CET
DTSTART:20251026T010000
END:STANDARD
END:VTIMEZONE
BEGIN:VEVENT
DTSTART;VALUE=DATE:20250916
DTEND;VALUE=DATE:20250924
DTSTAMP:20260424T114009
CREATED:20250704T134852Z
LAST-MODIFIED:20250730T091949Z
UID:11465-1757980800-1758671999@ciecmadrid.es
SUMMARY:Taller técnico de Cubiertas Verdes
DESCRIPTION:Desde el Laboratorio Inclusivo de Soluciones Basadas en la Naturaleza os invitamos a participar al Taller técnico de Cubiertas Verdes que tendrá lugar del 16 al 23 de septiembre de 2025 en horario de 9:30 a 14:30. \nSe trata de un taller formativo técnico\, enfocado a personas en situación de vulnerabilidad psicosocial con formación o experiencia en estos ámbitos. \nEstá dirigido por expertos referentes y agentes de economía circular y el alumnado tendrá la oportunidad de formarse para adquirir conocimientos teóricos y prácticos sobre las técnicas de montaje de una cubierta verde\, desde el desarrollo de su diseño\, hasta su instalación y mantenimiento. \nEl objetivo general es el de proporcionar habilidades y competencias en el conocimiento de las cubiertas verdes\, para la generación de nuevos modelos de negocio y empleo verde dentro del ecosistema circular\, preparando futuros profesionales para las nuevas demandas de empleo\, en el marco de la transición ecológica. \nPrograma: \nMódulo 1 – Definición e importancia de las cubiertas verdes\nMódulo 2 – Tipos de cubiertas y estructuras de las cubiertas verdes\nMódulo 3 – Mantenimiento y diseño de cubiertas verdes\nMódulo 4 – Prácticas montaje cubiertas verdes \nExperiencias de trabajadores montadores y visitas cubiertas verdes de Madrid. \nTodo el material del curso estará a disposición del alumnado en la plataforma Moodle para su consulta. \nDocentes: \nRaúl Marques y Morena La Ferla \nFechas y horarios: \n16\, 17\, 18\, 19\, 22 y 23 de septiembre\, de 9:30 a 14:30h. \nInscripción: \nLa participación a la formación es gratuita; puedes realiza la solicitud de inscripción desde este enlace\, y nos pondremos en contacto contigo lo antes posible.
URL:https://ciecmadrid.es/actividades/taller-tecnico-de-cubiertas-verdes-3/
LOCATION:CIEC Madrid\, Calle del Prat\, 59\, Madrid\, Vicálvaro\, 28032\, España
CATEGORIES:Cubiertas Verdes,Soluciones Basadas en la Naturaleza
ATTACH;FMTTYPE=image/jpeg:https://ciecmadrid.es/wp-content/uploads/2025/07/CAPs-SBNLAB-A3-1.jpg
END:VEVENT
BEGIN:VEVENT
DTSTART;TZID=Europe/Madrid:20250916T153000
DTEND;TZID=Europe/Madrid:20250916T190000
DTSTAMP:20260424T114009
CREATED:20250902T100059Z
LAST-MODIFIED:20250902T100059Z
UID:11530-1758036600-1758049200@ciecmadrid.es
SUMMARY:Curso de Iniciación a la Impresión 3D
DESCRIPTION:En este curso aprenderás a operar con una impresora 3D e imprimir tus diseños en PLA. Para ello adquirirás los conocimientos necesarios para configurar tu impresión para obtener un resultado óptimo. Haremos énfasis a lo largo de toda la formación en el uso correcto y seguro de la máquina. \n\n¡Inscríbete ahora pinchando aquí!\n\nObjetivos:\nEl objetivo de este curso es entender el proceso de trabajo para imprimir en 3d y utilizar una impresora 3d de escritorio \nRequisitos:\nNinguno \nContenidos:\nEl contenido del taller es el siguiente: \n– Trabajo en software de impresión 3D: importación de objetos\, parámetros de impresión\, exportación a .stl.\n– Funcionamiento de fabricación aditiva.\n– Partes de la máquina.\n– Seguridad en el manejo de la máquina.\n– Materiales\n– Software impresora 3D: lanzamiento del trabajo y edición de parámetros. \n¿A quién va dirigido?\nDiseñadores\, ingenieros\, arquitectos\, makers\,  y a todas aquellas personas que quieran hacer realidad sus ideas. \nDuración:\n7 horas \nMetodología:\nEste curso tiene formato workshop con una metodología totalmente práctica \nNivel del curso:\nNivel Básico. No son necesarios conocimientos previos.\n Horario y fechas: \nEdición 1: Martes 16 y Jueves 18 de Septiembre 2025 (15:30-19:00)\nEdición 2: Miércoles 1 y Viernes 3 de Octubre 2025 (15:30-19:00)\nEdición 3: Martes 4 y Jueves 6 de Noviembre 2025 (15:30-19:00)\nEdición 4: Martes 2 y Jueves 4 de Diciembre 2025 (15:30-19:00)\nEdición 5: Martes 13 y Jueves 15 de Enero 2026 (15:30-19:00)\nEdición 6: Martes 3 y Jueves 5 de Febrero 2026 (15:30-19:00)\nEdición 7: Martes 3 y Jueves 5 de Marzo 2026 (15:30-19:00)\nEdición 8: Martes 7 y Jueves 9 de Abril 2026 (15:30-19:00)\nEdición 9: Martes 5 y Jueves 7 de Mayo 2026 (15:30-19:00)\n\nOrdenador y materiales:\nLos participantes pueden usar los ordenadores del FabLab o podrán venir con su portátil. \nDocente:\nBernardo Cerdán \nLugar:  FabLab CIEC Madrid C/ Prat\, 59 28032 Madrid
URL:https://ciecmadrid.es/actividades/curso-de-iniciacion-a-la-impresion-3d-17/
LOCATION:CIEC Madrid\, Calle del Prat\, 59\, Madrid\, Vicálvaro\, 28032\, España
CATEGORIES:Herramientas Digitales,Impresión 3D
ATTACH;FMTTYPE=image/png:https://ciecmadrid.es/wp-content/uploads/2025/09/Ed-1.png
END:VEVENT
END:VCALENDAR