BEGIN:VCALENDAR
VERSION:2.0
PRODID:-//CIEC | MADRID - ECPv6.7.1//NONSGML v1.0//EN
CALSCALE:GREGORIAN
METHOD:PUBLISH
X-WR-CALNAME:CIEC | MADRID
X-ORIGINAL-URL:https://ciecmadrid.es
X-WR-CALDESC:Eventos para CIEC | MADRID
REFRESH-INTERVAL;VALUE=DURATION:PT1H
X-Robots-Tag:noindex
X-PUBLISHED-TTL:PT1H
BEGIN:VTIMEZONE
TZID:Europe/Madrid
BEGIN:DAYLIGHT
TZOFFSETFROM:+0100
TZOFFSETTO:+0200
TZNAME:CEST
DTSTART:20250330T010000
END:DAYLIGHT
BEGIN:STANDARD
TZOFFSETFROM:+0200
TZOFFSETTO:+0100
TZNAME:CET
DTSTART:20251026T010000
END:STANDARD
END:VTIMEZONE
BEGIN:VEVENT
DTSTART;TZID=Europe/Madrid:20251023T093000
DTEND;TZID=Europe/Madrid:20251023T133000
DTSTAMP:20260423T112521
CREATED:20251006T092452Z
LAST-MODIFIED:20251006T092639Z
UID:11648-1761211800-1761226200@ciecmadrid.es
SUMMARY:III SUMMIT en Innovación y economía circular del CIEC Madrid
DESCRIPTION:¡Te invitamos al III SUMMIT CIEC de Innovación en Economía Circular 2025! \nEl evento se celebrará el jueves 23 de octubre\, de 09:30 a 13:30 h\, en nuestro centro de Vicálvaro\, y será una oportunidad única para conectar con nuestro ecosistema y descubrir cómo startups y empresas impulsan la economía circular en Madrid. \nEn esta edición se destacarán casos de éxito de startups que han participado en nuestros programas y que además han hecho uso del FabLab CIEC y del Laboratorio de Soluciones Basadas en la Naturaleza (SBN Lab)\, mostrando cómo la innovación práctica transforma ideas en soluciones reales. \nEl III SUMMIT contará también con Demo Space\, Demo FabLab y Demo SBN Lab\, donde los asistentes podrán ver de primera mano proyectos innovadores\, prototipos y soluciones tecnológicas sostenibles. Mesas redondas sobre innovación\, tecnología y diseño circular\, charlas y networking harán que la mañana esté llena de inspiración y oportunidades de colaboración. \nÚnete a nosotros y conoce de cerca las últimas tendencias en innovación y economía circular\, y su impacto en la ciudad y en el tejido empresarial madrileño. \nInscríbete desde este enlace \n● Fecha: 23 de octubre 2025\n● Principales Sedes: CIEC Madrid\, C/ Prat 59\, Vicálvaro. Madrid
URL:https://ciecmadrid.es/actividades/ii-summit-en-innovacion-y-economia-circular-del-ciec-madrid-2/
LOCATION:CIEC Madrid\, Calle del Prat\, 59\, Madrid\, Vicálvaro\, 28032\, España
CATEGORIES:Economía Circular
ATTACH;FMTTYPE=image/jpeg:https://ciecmadrid.es/wp-content/uploads/2025/10/SUMMIT-2025.jpeg
END:VEVENT
BEGIN:VEVENT
DTSTART;TZID=Europe/Madrid:20251023T150000
DTEND;TZID=Europe/Madrid:20251023T190000
DTSTAMP:20260423T112521
CREATED:20251006T095345Z
LAST-MODIFIED:20251006T095345Z
UID:11666-1761231600-1761246000@ciecmadrid.es
SUMMARY:Curso de Dibujo 2D y Modelado 3D con Rhinoceros
DESCRIPTION:En este curso adquirirás los conocimientos necesarios para dibujar y modelar en Rhinoceros. Empezaremos desde 0 hasta llegar a un nivel intermedio de manejo del programa. \n\n¡Inscríbete ahora pinchando aquí!\n\n\nEl contenido del taller es el siguiente: \n– Conceptos Básicos del programa.\n– Creación de objetos 2D y edición de los mismos.\n– Modelado y edición 3D.\n– Exportación \nDocente:\nEquipo FabLab CIEC \nHorario y fechas:\n21\, 22 y 23 de octubre (15:00-19:00) \nLugar:\nONLINE (Os haremos llegar el link para las clases\, una vez que os hayáis inscrito)
URL:https://ciecmadrid.es/actividades/curso-de-dibujo-2d-y-modelado-3d-con-rhinoceros-9/
LOCATION:Online\, España
CATEGORIES:Dibujo 2D y modelado 3D,Herramientas Digitales
ATTACH;FMTTYPE=image/png:https://ciecmadrid.es/wp-content/uploads/2025/10/Ed.-1-2.png
END:VEVENT
END:VCALENDAR