BEGIN:VCALENDAR
VERSION:2.0
PRODID:-//CIEC | MADRID - ECPv6.7.1//NONSGML v1.0//EN
CALSCALE:GREGORIAN
METHOD:PUBLISH
X-WR-CALNAME:CIEC | MADRID
X-ORIGINAL-URL:https://ciecmadrid.es
X-WR-CALDESC:Eventos para CIEC | MADRID
REFRESH-INTERVAL;VALUE=DURATION:PT1H
X-Robots-Tag:noindex
X-PUBLISHED-TTL:PT1H
BEGIN:VTIMEZONE
TZID:Europe/Madrid
BEGIN:DAYLIGHT
TZOFFSETFROM:+0100
TZOFFSETTO:+0200
TZNAME:CEST
DTSTART:20250330T010000
END:DAYLIGHT
BEGIN:STANDARD
TZOFFSETFROM:+0200
TZOFFSETTO:+0100
TZNAME:CET
DTSTART:20251026T010000
END:STANDARD
END:VTIMEZONE
BEGIN:VEVENT
DTSTART;VALUE=DATE:20251127
DTEND;VALUE=DATE:20251130
DTSTAMP:20260423T080137
CREATED:20251105T105754Z
LAST-MODIFIED:20251126T073146Z
UID:11714-1764201600-1764460799@ciecmadrid.es
SUMMARY:IberoFABLaT Fest 2025
DESCRIPTION:¡Ya te puedes inscribir desde este enlace!\n\n\nTercer encuentro de las redes Ibero FAB y FAB LaT\nEl IberoFABLat Fest / III Encuentro Iberoamericano de FabLabs\, titulado “Catalizando Futuros: #Regenerativos #Distribuidos #Inclusivos #Colaborativos” es un evento distribuido a nivel global desde distintos Fab Labs de la red IberoFABLaT y se celebra el 27\, 28 y 29 de Noviembre. \nEste encuentro da cabida\, además de a FabLabs\, a startups\, empresas\, universidades y otras instituciones\, y constituye una plataforma iberoamericana para compartir experiencias y conocimientos que desde distintos ámbitos se están haciendo a favor de un mundo más respetuoso con las personas y el medio ambiente. \nObjetivo del evento:\nEl principal objetivo de este encuentro es explorar y ampliar el impacto de los FabLabs en la promoción de un futuro sostenible e inclusivo teniendo en cuenta la filosofía de la economía circular y la importancia de la ciencia ciudadana. Este encuentro busca: \n\nFomentar la colaboración: Crear y fortalecer redes entre FabLabs\, instituciones\, empresas\, startups y ciudadanos.\nInnovación y sostenibilidad: Demostrar cómo la tecnología y la innovación abierta pueden contribuir al bienestar social y ambiental.\nEducación y participación ciudadana: Involucrar a la comunidad en la ciencia y la tecnología para democratizar la innovación.\n\n\nPROGRAMA COMPLETO CON LOS ENLACES DE CONEXIÓN
URL:https://ciecmadrid.es/actividades/iberofablat-fest-2025/
LOCATION:CIEC Madrid\, Calle del Prat\, 59\, Madrid\, Vicálvaro\, 28032\, España
CATEGORIES:Herramientas Digitales
ATTACH;FMTTYPE=image/jpeg:https://ciecmadrid.es/wp-content/uploads/2025/11/6060e976-a9c4-47c1-b198-4118a7f3597a.jpg
END:VEVENT
BEGIN:VEVENT
DTSTART;VALUE=DATE:20251128
DTEND;VALUE=DATE:20251206
DTSTAMP:20260423T080137
CREATED:20251105T110756Z
LAST-MODIFIED:20251106T111853Z
UID:11716-1764288000-1764979199@ciecmadrid.es
SUMMARY:Taller técnico de Compostaje
DESCRIPTION:  \n\n¡Inscríbete ahora pinchando aquí!\n\n \n \n \n \nEl Taller técnico de Compostaje se llevará a cabo desde el Laboratorio Inclusivo de Soluciones Basadas en la Naturaleza (#SBNLabInclusión) enmarcado dentro del Centro de Innovación en Economía Circular del Ayuntamiento de Madrid\, y tendrá lugar del 28 nov al 5 dic de 2025 en horario de 9:30 a 14:30h.El Taller de Compostaje es un taller formativo técnico\, enfocado a personas en situación de vulnerabilidad psicosocial con formación en estos ámbitos (certificado profesionalidad o FP). Está dirigido por expertos referentes\, maestros compostadores y agentes de economía circular\, gracias a los cuales el alumnado tendrá la oportunidad de formarse para adquirir conocimientos teóricos y prácticos sobre gestión de residuos y compostaje\, además de aprender como realizar el seguimiento técnico de una compostera. El objetivo general es el de proporcionar habilidades y competencias en el conocimiento de la gestión de los residuos orgánicos a través del compostaje\, para la generación de nuevos modelos de negocio y empleo verde dentro del ecosistema circular\, preparando futuros profesionales para las nuevas demandas de empleo\, en el marco de la transición ecológica. Para poder valorar tu inscripción\, tienes que inscribirte a través del formulario (poner enlace) dentro del 5 de noviembre de 2025. \n¡Te esperamos! \nFechas: Del 28 de noviembre al 5 de diciembre
URL:https://ciecmadrid.es/actividades/taller-tecnico-de-compostaje/
LOCATION:CIEC Madrid\, Calle del Prat\, 59\, Madrid\, Vicálvaro\, 28032\, España
CATEGORIES:Programas de compostaje,Soluciones Basadas en la Naturaleza
ATTACH;FMTTYPE=image/png:https://ciecmadrid.es/wp-content/uploads/2025/11/CAPs-SBNLAB.png
END:VEVENT
END:VCALENDAR