BEGIN:VCALENDAR
VERSION:2.0
PRODID:-//CIEC | MADRID - ECPv6.7.1//NONSGML v1.0//EN
CALSCALE:GREGORIAN
METHOD:PUBLISH
X-ORIGINAL-URL:https://ciecmadrid.es
X-WR-CALDESC:Eventos para CIEC | MADRID
REFRESH-INTERVAL;VALUE=DURATION:PT1H
X-Robots-Tag:noindex
X-PUBLISHED-TTL:PT1H
BEGIN:VTIMEZONE
TZID:Europe/Madrid
BEGIN:DAYLIGHT
TZOFFSETFROM:+0100
TZOFFSETTO:+0200
TZNAME:CEST
DTSTART:20250330T010000
END:DAYLIGHT
BEGIN:STANDARD
TZOFFSETFROM:+0200
TZOFFSETTO:+0100
TZNAME:CET
DTSTART:20251026T010000
END:STANDARD
END:VTIMEZONE
BEGIN:VEVENT
DTSTART;TZID=Europe/Madrid:20251211T150000
DTEND;TZID=Europe/Madrid:20251211T170000
DTSTAMP:20260423T061637
CREATED:20251106T095713Z
LAST-MODIFIED:20251106T095837Z
UID:11735-1765465200-1765472400@ciecmadrid.es
SUMMARY:Itinerario formativo: Economía Circular (2025) - Sesión 5: Circularidad con impacto social
DESCRIPTION:Inscríbete desde este enlace\n\nEste itinerario está compuesto por 6 sesiones online\, diseñadas para ofrecer una visión práctica\, participativa y actual sobre los distintos ámbitos de la economía circular. \nComo siempre\, buscamos que sean accesibles para todo el mundo\, por lo que se celebrarán en formato online\, con una duración máxima de 2 horas y a partir de las 15:00 h (algunas a las 16:00 h). \nCada sesión contará con ponentes expertos en el ámbito de la circularidad\, el ecodiseño y la sostenibilidad\, que compartirán herramientas\, casos reales y claves prácticas para aplicar en el día a día. \n🌀 ITINERARIO DE ECONOMÍA CIRCULAR \n📘 Sesión 1: Circularidad en sectores clave (textil\, construcción\, agro)\n🗓️ 24/11/2025 – 16:00-18:00\n👤 Luis Lehman \n♻️ Sesión 2: Ecodiseño práctico\n🗓️ 26/11/2025 – 15:00-17:00\n👤 Jessica Soto \n🏙️ Sesión 3: Ciudades Circulares\n🗓️ 01/12/2025 – 15:00-17:00\n👤 Luis Martínez \n💡 Sesión 4: Datos\, trazabilidad y plataformas circulares\n🗓️ 10/12/2025 – 15:00-17:00\n👤 Luis Martínez \n🌱 Sesión 5: Circularidad con impacto social\n🗓️ 11/12/2025 – 15:00-17:00\n👤 Jessica Soto \n⚖️ Sesión 6: Políticas públicas y marco legal\n🗓️ 16/12/2025 – 16:00-18:00\n👤 Luis Lehman \nPara asistir a las sesiones online en directo\, puedes registrarte en el formulario.\nEn un plazo máximo de 2 días recibirás la convocatoria online con los enlaces a todas las sesiones.
URL:https://ciecmadrid.es/actividades/itinerario-formativo-emprendimiento-circular-2025-s5/
LOCATION:Online\, España
CATEGORIES:Formación,Itinerario de Economía Circular
END:VEVENT
BEGIN:VEVENT
DTSTART;TZID=Europe/Madrid:20251211T153000
DTEND;TZID=Europe/Madrid:20251211T190000
DTSTAMP:20260423T061637
CREATED:20251001T083652Z
LAST-MODIFIED:20251001T083652Z
UID:11633-1765467000-1765479600@ciecmadrid.es
SUMMARY:Curso de Iniciación al Corte Láser
DESCRIPTION:En este curso adquirirás los conocimientos necesarios para poder manejar una cortadora láser de CO2. Aprenderás cómo preparar los archivos vectoriales en un software vectorial para poderlos importar en el software de la máquina y así poder configurar tu trabajo para obtener un resultado óptimo. Veremos qué materiales son los más idóneos para el corte láser y sus parámetros. Haremos énfasis a lo largo de toda la formación en el uso correcto y seguro de la máquina. \n\n¡Inscríbete ahora pinchando aquí!\n\n\nEl contenido del taller es el siguiente: \n– Trabajo en software vectorial: importación de vectores\, organización de capas\, exportación en .dxf.\n– Funcionamiento de la tecnología láser y partes de la máquina.\n– Seguridad en el manejo de la máquina.\n– Materiales.\n– Software máquina láser: importación de archivos\, orden de las capas\, configuración de parámetros para el láser y lanzamiento del trabajo. \nDocente:\nBernardo Cerdán \nDuración:\n7 h \nHorario y fechas:\nEdición 1: 7 y 9 de octubre (15:30 – 19:00)\nEdición 2: 11 y 13 de noviembre (15:30 – 19:00)\nEdición 3: 9 y 11 de diciembre (15:30 – 19:00) \nLugar:\nFabLab CIEC Madrid\nC/ Prat\, 59\n28032 Madrid\nC/ Prat\, 59\n28032 Madrid
URL:https://ciecmadrid.es/actividades/curso-de-iniciacion-al-corte-laser-20/
LOCATION:CIEC Madrid\, Calle del Prat\, 59\, Madrid\, Vicálvaro\, 28032\, España
CATEGORIES:Corte Láser,Herramientas Digitales
ATTACH;FMTTYPE=image/png:https://ciecmadrid.es/wp-content/uploads/2025/10/Ed.-3.png
END:VEVENT
END:VCALENDAR