BEGIN:VCALENDAR
VERSION:2.0
PRODID:-//CIEC | MADRID - ECPv6.7.1//NONSGML v1.0//EN
CALSCALE:GREGORIAN
METHOD:PUBLISH
X-WR-CALNAME:CIEC | MADRID
X-ORIGINAL-URL:https://ciecmadrid.es
X-WR-CALDESC:Eventos para CIEC | MADRID
REFRESH-INTERVAL;VALUE=DURATION:PT1H
X-Robots-Tag:noindex
X-PUBLISHED-TTL:PT1H
BEGIN:VTIMEZONE
TZID:Europe/Madrid
BEGIN:DAYLIGHT
TZOFFSETFROM:+0100
TZOFFSETTO:+0200
TZNAME:CEST
DTSTART:20240331T010000
END:DAYLIGHT
BEGIN:STANDARD
TZOFFSETFROM:+0200
TZOFFSETTO:+0100
TZNAME:CET
DTSTART:20241027T010000
END:STANDARD
BEGIN:DAYLIGHT
TZOFFSETFROM:+0100
TZOFFSETTO:+0200
TZNAME:CEST
DTSTART:20250330T010000
END:DAYLIGHT
BEGIN:STANDARD
TZOFFSETFROM:+0200
TZOFFSETTO:+0100
TZNAME:CET
DTSTART:20251026T010000
END:STANDARD
BEGIN:DAYLIGHT
TZOFFSETFROM:+0100
TZOFFSETTO:+0200
TZNAME:CEST
DTSTART:20260329T010000
END:DAYLIGHT
BEGIN:STANDARD
TZOFFSETFROM:+0200
TZOFFSETTO:+0100
TZNAME:CET
DTSTART:20261025T010000
END:STANDARD
END:VTIMEZONE
BEGIN:VEVENT
DTSTART;VALUE=DATE:20260127
DTEND;VALUE=DATE:20260228
DTSTAMP:20260423T005334
CREATED:20260127T100111Z
LAST-MODIFIED:20260127T100111Z
UID:11845-1769472000-1772236799@ciecmadrid.es
SUMMARY:EcoDesignLab III: Diseñar para el Mínimo Desperdicio
DESCRIPTION:EcoDesignLab celebra su tercera edición con una muestra centrada en el ecodiseño como herramienta para la transformación sostenible. En esta ocasión\, el alumnado de la asignatura Fabricación Digital de la Escuela Superior de Diseño de Madrid ha trabajado con un objetivo claro: diseñar productos pensados para su reciclaje y reutilización. \nEl reto ha consistido en crear objetos funcionales\, sin usar tornillos\, adhesivos ni combinaciones complejas de materiales. Los diseños emplean\, en su mayoría\, un solo material y\, en el caso de combinar materiales\, la no utilización de elementos adicionales para las uniones permite la separación de manera sencilla lo que facilita la reutilización de las piezas y el reciclaje. \nA través de técnicas como la impresión 3D\, el corte láser y el fresado CNC\, los proyectos exploran soluciones creativas y responsables que ponen la innovación digital al servicio de la Economía Circular. \nUna exposición que nos invita a repensar cómo diseñamos\, producimos y consumimos. \nDocente:\nLucía Lucas \nTécnico FabLab:\nBernardo Cerdán \nAlumnos:\nCarmen Bello Jiménez\nCecilia Bao Damián Baños\nDalila Díaz Sánchez Gabriel\nMaría Echarri Onetti\nEva María Gómez Lucena\nMónica González Berea\nRodrigo Lara Paterna\nClaudia de Marcos Rojas\nCristóbal Castor Paniagua de Willermin\nMaría Cristina Salmerón Torres\nQiuping Zhang \nFechas:\nDel 27 de enero al 27 de febrero \nLugar:\nCentro de Innovación en Economía Circular del Ayuntamiento de Madrid.\nC/ Prat\, 59. 28032\, Madrid
URL:https://ciecmadrid.es/actividades/ecodesignlab-iii-disenar-para-el-minimo-desperdicio/
LOCATION:CIEC Madrid\, Calle del Prat\, 59\, Madrid\, Vicálvaro\, 28032\, España
CATEGORIES:Diseño Circular,Economía Circular
ATTACH;FMTTYPE=image/jpeg:https://ciecmadrid.es/wp-content/uploads/2026/01/Cartel-EcoDesign.jpeg
END:VEVENT
BEGIN:VEVENT
DTSTART;TZID=Europe/Madrid:20250124T030000
DTEND;TZID=Europe/Madrid:20250124T210000
DTSTAMP:20260423T005334
CREATED:20231110T130141Z
LAST-MODIFIED:20231214T131823Z
UID:8690-1737687600-1737752400@ciecmadrid.es
SUMMARY:StartupLab y VicaLab
DESCRIPTION:Inscríbete pinchando aquí o contacta desde el grupo de WhatsApp. \n\n¿Lo sabías? Cada lunes\, el #FabLab del #CIECMadrid abre sus puertas a todas las startups que quieran hacer uso de sus instalaciones y su tecnología. Se trata de un espacio de colaboración entre startups del ecosistema #CIEC y el #FabLab donde los emprendedores aprenderán fabricación digital para desarrollar sus prototipos y poder así testear sus productos. \n¡El #StartupLab invita a las empresas emergentes de nuestros programas a seguir creciendo en nuestro #FabLab! \n\nDesde el CIEC ofrecemos espacio\, conocimiento en el ámbito del diseño\, la fabricación digital y la sostenibilidad fundamentalmente\, apoyo por parte de nuestro equipo y tecnología.
URL:https://ciecmadrid.es/actividades/startuplab-y-vicalab/
LOCATION:CIEC Madrid\, Calle del Prat\, 59\, Madrid\, Vicálvaro\, 28032\, España
CATEGORIES:Herramientas Digitales
ATTACH;FMTTYPE=image/png:https://ciecmadrid.es/wp-content/uploads/2023/11/vicalab.png
END:VEVENT
BEGIN:VEVENT
DTSTART;TZID=Europe/Madrid:20240108T100000
DTEND;TZID=Europe/Madrid:20240108T180000
DTSTAMP:20260423T005334
CREATED:20231214T132225Z
LAST-MODIFIED:20231214T132511Z
UID:9032-1704708000-1704736800@ciecmadrid.es
SUMMARY:StartupLab y VicaLab
DESCRIPTION:Inscríbete pinchando aquí o contacta desde el grupo de WhatsApp. \n\n¿Lo sabías? Cada lunes\, el #FabLab del #CIECMadrid abre sus puertas a todas las startups que quieran hacer uso de sus instalaciones y su tecnología. Se trata de un espacio de colaboración entre startups del ecosistema #CIEC y el #FabLab donde los emprendedores aprenderán fabricación digital para desarrollar sus prototipos y poder así testear sus productos. \n¡El #StartupLab invita a las empresas emergentes de nuestros programas a seguir creciendo en nuestro #FabLab! \n\nDesde el CIEC ofrecemos espacio\, conocimiento en el ámbito del diseño\, la fabricación digital y la sostenibilidad fundamentalmente\, apoyo por parte de nuestro equipo y tecnología.
URL:https://ciecmadrid.es/actividades/startuplab-y-vicalab-2/
LOCATION:CIEC Madrid\, Calle del Prat\, 59\, Madrid\, Vicálvaro\, 28032\, España
CATEGORIES:Herramientas Digitales
ATTACH;FMTTYPE=image/png:https://ciecmadrid.es/wp-content/uploads/2023/11/vicalab.png
END:VEVENT
END:VCALENDAR