BEGIN:VCALENDAR
VERSION:2.0
PRODID:-//CIEC | MADRID - ECPv6.7.1//NONSGML v1.0//EN
CALSCALE:GREGORIAN
METHOD:PUBLISH
X-WR-CALNAME:CIEC | MADRID
X-ORIGINAL-URL:https://ciecmadrid.es
X-WR-CALDESC:Eventos para CIEC | MADRID
REFRESH-INTERVAL;VALUE=DURATION:PT1H
X-Robots-Tag:noindex
X-PUBLISHED-TTL:PT1H
BEGIN:VTIMEZONE
TZID:Europe/Madrid
BEGIN:DAYLIGHT
TZOFFSETFROM:+0100
TZOFFSETTO:+0200
TZNAME:CEST
DTSTART:20260329T010000
END:DAYLIGHT
BEGIN:STANDARD
TZOFFSETFROM:+0200
TZOFFSETTO:+0100
TZNAME:CET
DTSTART:20261025T010000
END:STANDARD
END:VTIMEZONE
BEGIN:VEVENT
DTSTART;TZID=Europe/Madrid:20260424T160000
DTEND;TZID=Europe/Madrid:20260424T190000
DTSTAMP:20260424T014400
CREATED:20260410T094004Z
LAST-MODIFIED:20260416T092713Z
UID:12043-1777046400-1777057200@ciecmadrid.es
SUMMARY:Jornadas de Puertas Abiertas - CIEC Madrid
DESCRIPTION:  \n\n¡Inscríbete ahora pinchando aquí!\n\n \n \n \n \nNo te pierdas el primer evento anual del Parque Tecnológico Valdemingómez en el CIEC \n¿Cuándo?Viernes 24 de abril¿A qué hora?Entre las 16:00h y las 19:00h \nVen a conocer el NUEVO ESPACIO del Parque Tecnológico de Valdemingómez en el CIEC y su programa de educación ambiental HazloCircular.¡TODAS LAS ACTIVIDADES SON GRATUITAS! \n\n🔍 ¿Basura o tesoro? Búsqueda del tesoro donde los más pequeños descubrirán cómo sus residuos pueden llegar a transformarse en nuevos recursos. Duración aproximada 30 minutos. A partir de 8 años.\n♻️ Conecta con el reciclaje. Taller para tratar de forma creativa y divertida la importancia de la separación de residuos desde los hogares. Duración aproximada 45 minutos. A partir de 10 años.\n🎭 Théâtre de l’Alambre. Espectáculo El Arca de Neo es un universo teatral de temática medioambiental tratada con humor\, poesía\, algo de locura y mucha creatividad. Todas las edades.\n\n*Estas actividades tienen plazas limitadas por lo que es necesario inscribirse previamente.Una oportunidad para descubrir y aprender sobre los residuos\, la economía circular y compartir una experiencia diferente y divertida entorno al medioambiente.¡Os esperamos!
URL:https://ciecmadrid.es/actividades/jornadas-de-puertas-abiertas-ciec-madrid/
LOCATION:CIEC Madrid\, Calle del Prat\, 59\, Madrid\, Vicálvaro\, 28032\, España
ATTACH;FMTTYPE=image/jpeg:https://ciecmadrid.es/wp-content/uploads/2026/04/12befee2-9dd7-48cc-aa7f-00c7f62f9724.jpg
END:VEVENT
END:VCALENDAR