BEGIN:VCALENDAR
VERSION:2.0
PRODID:-//CIEC | MADRID - ECPv6.7.1//NONSGML v1.0//EN
CALSCALE:GREGORIAN
METHOD:PUBLISH
X-WR-CALNAME:CIEC | MADRID
X-ORIGINAL-URL:https://ciecmadrid.es
X-WR-CALDESC:Eventos para CIEC | MADRID
REFRESH-INTERVAL;VALUE=DURATION:PT1H
X-Robots-Tag:noindex
X-PUBLISHED-TTL:PT1H
BEGIN:VTIMEZONE
TZID:Europe/Madrid
BEGIN:DAYLIGHT
TZOFFSETFROM:+0100
TZOFFSETTO:+0200
TZNAME:CEST
DTSTART:20260329T010000
END:DAYLIGHT
BEGIN:STANDARD
TZOFFSETFROM:+0200
TZOFFSETTO:+0100
TZNAME:CET
DTSTART:20261025T010000
END:STANDARD
END:VTIMEZONE
BEGIN:VEVENT
DTSTART;TZID=Europe/Madrid:20260506T120000
DTEND;TZID=Europe/Madrid:20260506T130000
DTSTAMP:20260423T015959
CREATED:20260410T093540Z
LAST-MODIFIED:20260410T112625Z
UID:12040-1778068800-1778072400@ciecmadrid.es
SUMMARY:Webinar "Fondos europeos y Soluciones Basadas en la Naturaleza: de la convocatoria al proyecto real"
DESCRIPTION:¡Inscríbete pinchando aquí!\n\nEl próximo 6 de mayo de 2026\, el SBNLab.Inclusión del CIEC organiza el webinar “Fondos europeos y Soluciones Basadas en la Naturaleza: de la convocatoria al proyecto real”\, un espacio de aprendizaje práctico donde expertos y casos de éxito desarrollados por ayuntamientos españoles mostrarán cómo la colaboración público‑privada impulsa proyectos SBN de impacto. La sesión analizará cómo transformar oportunidades de financiación europea en proyectos reales y viables alineadas con la economía circular. \nDirigido a empresas de verde urbano\, ingenierías\, consultoras\, universidades\, startups SBN\, técnicos de la administración pública y gestores urbanos\, el webinar abordará estrategias para acceder con éxito a fondos europeos\, los retos habituales en la preparación de propuestas y experiencias reales que marcan la diferencia. A través de casos reales\, se mostrará el valor del SBNlab como plataforma previa para estructurar propuestas\, justificar financiación y crear contactos cualificados que aceleren proyectos innovadores. \nFecha: 6 de mayo de 2026 \nHora: 12:00 a 13:00 \nFormato: Online  \nInscripción gratuita
URL:https://ciecmadrid.es/actividades/webinar-fondos-europeos-y-sbn/
LOCATION:Online\, España
CATEGORIES:Economía Circular
END:VEVENT
END:VCALENDAR