BEGIN:VCALENDAR
VERSION:2.0
PRODID:-//CIEC | MADRID - ECPv6.7.1//NONSGML v1.0//EN
CALSCALE:GREGORIAN
METHOD:PUBLISH
X-WR-CALNAME:CIEC | MADRID
X-ORIGINAL-URL:https://ciecmadrid.es
X-WR-CALDESC:Eventos para CIEC | MADRID
REFRESH-INTERVAL;VALUE=DURATION:PT1H
X-Robots-Tag:noindex
X-PUBLISHED-TTL:PT1H
BEGIN:VTIMEZONE
TZID:Europe/Madrid
BEGIN:DAYLIGHT
TZOFFSETFROM:+0100
TZOFFSETTO:+0200
TZNAME:CEST
DTSTART:20230326T010000
END:DAYLIGHT
BEGIN:STANDARD
TZOFFSETFROM:+0200
TZOFFSETTO:+0100
TZNAME:CET
DTSTART:20231029T010000
END:STANDARD
END:VTIMEZONE
BEGIN:VEVENT
DTSTART;TZID=Europe/Madrid:20231121T120000
DTEND;TZID=Europe/Madrid:20231121T140000
DTSTAMP:20260421T062555
CREATED:20231115T111756Z
LAST-MODIFIED:20231115T111756Z
UID:8728-1700568000-1700575200@ciecmadrid.es
SUMMARY:Mesa de Empleo | Distrito Vicálvaro
DESCRIPTION:Reunión mensual de la mesa de empleo del distrito de Vicálvaro para tratar necesidades del colectivo distrital en temática de empleo. Se proponen cursos\, talleres y necesidades a cubrir del distrito para la promoción de la generación de empleo. También se discutirá el desarrollo de la Feria de empleo planteada de cara a abril 2024. \nIntervienen diferentes entidades del distrito.
URL:https://ciecmadrid.es/actividades/mesa-de-empleo-distrito-vicalvaro/
LOCATION:CIEC Madrid\, Calle del Prat\, 59\, Madrid\, Vicálvaro\, 28032\, España
CATEGORIES:Emprendimiento
ATTACH;FMTTYPE=image/jpeg:https://ciecmadrid.es/wp-content/uploads/2023/11/empleo.jpg
END:VEVENT
END:VCALENDAR