BEGIN:VCALENDAR
VERSION:2.0
PRODID:-//CIEC | MADRID - ECPv6.7.1//NONSGML v1.0//EN
CALSCALE:GREGORIAN
METHOD:PUBLISH
X-WR-CALNAME:CIEC | MADRID
X-ORIGINAL-URL:https://ciecmadrid.es
X-WR-CALDESC:Eventos para CIEC | MADRID
REFRESH-INTERVAL;VALUE=DURATION:PT1H
X-Robots-Tag:noindex
X-PUBLISHED-TTL:PT1H
BEGIN:VTIMEZONE
TZID:Europe/Madrid
BEGIN:DAYLIGHT
TZOFFSETFROM:+0100
TZOFFSETTO:+0200
TZNAME:CEST
DTSTART:20250330T010000
END:DAYLIGHT
BEGIN:STANDARD
TZOFFSETFROM:+0200
TZOFFSETTO:+0100
TZNAME:CET
DTSTART:20251026T010000
END:STANDARD
END:VTIMEZONE
BEGIN:VEVENT
DTSTART;TZID=Europe/Madrid:20250123T110000
DTEND;TZID=Europe/Madrid:20250123T120000
DTSTAMP:20260420T043852
CREATED:20241220T093056Z
LAST-MODIFIED:20250121T102759Z
UID:11041-1737630000-1737633600@ciecmadrid.es
SUMMARY:INFODAY programas Incubación y Aceleración
DESCRIPTION:Hemos preparado un Infoday\, donde contaremos con el testimonio de varias startups que han pasado por la anterior edición del programa\, y en el que se podrá plantear cualquier duda sobre el proceso de inscripción o dinámica del programa\, además podrás conocer los espacios del CIEC Madrid. \nPuedes acceder de forma presencial\, o mediante videollamada a través de este enlace. \n¡Te esperamos!
URL:https://ciecmadrid.es/actividades/infoday-programas-incubacion-y-aceleracion/
LOCATION:CIEC Madrid\, Calle del Prat\, 59\, Madrid\, Vicálvaro\, 28032\, España
CATEGORIES:Emprendimiento
ATTACH;FMTTYPE=image/png:https://ciecmadrid.es/wp-content/uploads/2024/12/Infoday.png
END:VEVENT
END:VCALENDAR