BEGIN:VCALENDAR
VERSION:2.0
PRODID:-//CIEC | MADRID - ECPv6.7.1//NONSGML v1.0//EN
CALSCALE:GREGORIAN
METHOD:PUBLISH
X-ORIGINAL-URL:https://ciecmadrid.es
X-WR-CALDESC:Eventos para CIEC | MADRID
REFRESH-INTERVAL;VALUE=DURATION:PT1H
X-Robots-Tag:noindex
X-PUBLISHED-TTL:PT1H
BEGIN:VTIMEZONE
TZID:Europe/Madrid
BEGIN:DAYLIGHT
TZOFFSETFROM:+0100
TZOFFSETTO:+0200
TZNAME:CEST
DTSTART:20260329T010000
END:DAYLIGHT
BEGIN:STANDARD
TZOFFSETFROM:+0200
TZOFFSETTO:+0100
TZNAME:CET
DTSTART:20261025T010000
END:STANDARD
END:VTIMEZONE
BEGIN:VEVENT
DTSTART;VALUE=DATE:20260311
DTEND;VALUE=DATE:20260319
DTSTAMP:20260422T172239
CREATED:20260211T091329Z
LAST-MODIFIED:20260211T095853Z
UID:11883-1773187200-1773878399@ciecmadrid.es
SUMMARY:Taller técnico de Compostaje
DESCRIPTION:  \n\n¡Inscríbete ahora pinchando aquí!\n\n \n \n \n \nEl Taller técnico de Compostaje es un taller formativo técnico\, enfocado a personas en situación de vulnerabilidad psicosocial con formación en estos ámbitos (certificado profesionalidad o FP). Es organizado por el SBNLabInclusivo en el marco de acciones del CIEC (Centro de Innovación en Economia Circular) del Ayuntamiento de Madrid.  Está dirigido por expertos referentes\, maestros compostadores y agentes de economía circular\, gracias a los cuales el alumnado tendrá la oportunidad de formarse para adquirir conocimientos teóricos y prácticos sobre gestión de residuos y compostaje\, además de aprender como realizar el seguimiento técnico de una compostera.  El objetivo general es el de proporcionar habilidades y competencias en el conocimiento de la gestión de los residuos orgánicos a través del compostaje\, para la generación de nuevos modelos de negocio y empleo verde dentro del ecosistema circular\, preparando futuros profesionales para las nuevas demandas de empleo\, en el marco de la transición ecológica. El curso tendrá lugar del 11 al 18 de marzo de 2026 de 9:30 a 14:30h de lunes a viernes en el CIEC\, C/ Prat\, 59.  28032 Madrid Para participar\, inscríbete a través del formulario\, las inscripciones cierran el 27 de febrero.
URL:https://ciecmadrid.es/actividades/taller-tecnico-de-compostaje-2/
LOCATION:CIEC Madrid\, Calle del Prat\, 59\, Madrid\, Vicálvaro\, 28032\, España
CATEGORIES:Programas de compostaje,Soluciones Basadas en la Naturaleza
END:VEVENT
END:VCALENDAR